BEGIN:VCALENDAR
VERSION:2.0
PRODID:-//FITHIT-Fitnessstudio im Ennspongau - ECPv6.15.15//NONSGML v1.0//EN
CALSCALE:GREGORIAN
METHOD:PUBLISH
X-WR-CALNAME:FITHIT-Fitnessstudio im Ennspongau
X-ORIGINAL-URL:https://www.fithit.at
X-WR-CALDESC:Veranstaltungen für FITHIT-Fitnessstudio im Ennspongau
REFRESH-INTERVAL;VALUE=DURATION:PT1H
X-Robots-Tag:noindex
X-PUBLISHED-TTL:PT1H
BEGIN:VTIMEZONE
TZID:Europe/Berlin
BEGIN:DAYLIGHT
TZOFFSETFROM:+0100
TZOFFSETTO:+0200
TZNAME:CEST
DTSTART:20250330T010000
END:DAYLIGHT
BEGIN:STANDARD
TZOFFSETFROM:+0200
TZOFFSETTO:+0100
TZNAME:CET
DTSTART:20251026T010000
END:STANDARD
BEGIN:DAYLIGHT
TZOFFSETFROM:+0100
TZOFFSETTO:+0200
TZNAME:CEST
DTSTART:20260329T010000
END:DAYLIGHT
BEGIN:STANDARD
TZOFFSETFROM:+0200
TZOFFSETTO:+0100
TZNAME:CET
DTSTART:20261025T010000
END:STANDARD
BEGIN:DAYLIGHT
TZOFFSETFROM:+0100
TZOFFSETTO:+0200
TZNAME:CEST
DTSTART:20270328T010000
END:DAYLIGHT
BEGIN:STANDARD
TZOFFSETFROM:+0200
TZOFFSETTO:+0100
TZNAME:CET
DTSTART:20271031T010000
END:STANDARD
END:VTIMEZONE
BEGIN:VEVENT
DTSTART;TZID=Europe/Berlin:20260420T080000
DTEND;TZID=Europe/Berlin:20260420T093000
DTSTAMP:20260424T121636
CREATED:20250226T100915Z
LAST-MODIFIED:20260112T085440Z
UID:10012178-1776672000-1776677400@www.fithit.at
SUMMARY:Gesunder Rücken
DESCRIPTION:Spezielle Kräftigung der Tiefenmuskulatur des Rückens – ideal gegen Rückenschmerzen und Nackenverspannungen\, zur Steigerung der Körperwahrnehmung und Haltungsverbesserung. \n90 Minuten Kurs
URL:https://www.fithit.at/kurs/gesunder-ruecken-pilates-2-3/2026-04-20/
LOCATION:Radstadt
CATEGORIES:Gesundheit
ATTACH;FMTTYPE=image/jpeg:https://www.fithit.at/wp-content/uploads/DSC9506.jpg
END:VEVENT
BEGIN:VEVENT
DTSTART;TZID=Europe/Berlin:20260420T183000
DTEND;TZID=Europe/Berlin:20260420T193000
DTSTAMP:20260424T121636
CREATED:20240110T160547Z
LAST-MODIFIED:20251206T155857Z
UID:10009769-1776709800-1776713400@www.fithit.at
SUMMARY:Functional Training
DESCRIPTION:Das Ganzkörper-Workout mit freien Übungen für eine gestärkte Oberflächen- und Tiefenmuskulatur.
URL:https://www.fithit.at/kurs/functional-training-3-2-2/2026-04-20/
LOCATION:Radstadt
CATEGORIES:Kraft
ATTACH;FMTTYPE=image/jpeg:https://www.fithit.at/wp-content/uploads/./functional-training-fitnesskurs-radstadt-1.jpg
END:VEVENT
BEGIN:VEVENT
DTSTART;TZID=Europe/Berlin:20260421T183000
DTEND;TZID=Europe/Berlin:20260421T193000
DTSTAMP:20260424T121637
CREATED:20230517T132133Z
LAST-MODIFIED:20260105T191456Z
UID:10006437-1776796200-1776799800@www.fithit.at
SUMMARY:Langhantel-Training
DESCRIPTION:Intensiv & abwechslungsreich für den gezielten Muskelaufbau.
URL:https://www.fithit.at/kurs/langhantel-training/2026-04-21/
LOCATION:Radstadt
CATEGORIES:Kraft
ATTACH;FMTTYPE=image/jpeg:https://www.fithit.at/wp-content/uploads/./langhanteltraining-fitnesskurs-radstadt-1.jpg
END:VEVENT
BEGIN:VEVENT
DTSTART;TZID=Europe/Berlin:20260422T080000
DTEND;TZID=Europe/Berlin:20260422T090000
DTSTAMP:20260424T121637
CREATED:20230925T074727Z
LAST-MODIFIED:20251222T095717Z
UID:10010158-1776844800-1776848400@www.fithit.at
SUMMARY:Gesunder Rücken/Pilates
DESCRIPTION:Spezielle Kräftigung der Tiefenmuskulatur des Rückens – ideal gegen Rückenschmerzen und Nackenverspannungen\, zur Steigerung der Körperwahrnehmung und Haltungsverbesserung.
URL:https://www.fithit.at/kurs/gesunder-ruecken-pilates-2-2/2026-04-22/
LOCATION:Radstadt
CATEGORIES:Gesundheit
ATTACH;FMTTYPE=image/jpeg:https://www.fithit.at/wp-content/uploads/./yoga-fitnesskurs-radstadt-1.jpg
END:VEVENT
BEGIN:VEVENT
DTSTART;TZID=Europe/Berlin:20260422T183000
DTEND;TZID=Europe/Berlin:20260422T194500
DTSTAMP:20260424T121637
CREATED:20250710T061702Z
LAST-MODIFIED:20260323T083945Z
UID:10012870-1776882600-1776887100@www.fithit.at
SUMMARY:Yoga
DESCRIPTION:Dehnung und Stärkung der Körpermuskulatur\, Steigerung der Konzentration und Reduktion von Stress – deine Fitnesseinheit für Körper und Geist.
URL:https://www.fithit.at/kurs/yoga-2/2026-04-22/
LOCATION:Radstadt
CATEGORIES:Gesundheit
ATTACH;FMTTYPE=image/jpeg:https://www.fithit.at/wp-content/uploads/./yoga-fitnesskurs-radstadt-1.jpg
END:VEVENT
BEGIN:VEVENT
DTSTART;TZID=Europe/Berlin:20260423T183000
DTEND;TZID=Europe/Berlin:20260423T193000
DTSTAMP:20260424T121637
CREATED:20230517T131444Z
LAST-MODIFIED:20251222T095918Z
UID:10005652-1776969000-1776972600@www.fithit.at
SUMMARY:Intensive Bodywork
DESCRIPTION:Sehr intensives Training im eigenen Rhythmus und Tempo\, daher für jede Altersgruppe und auch Einsteiger/innen geeignet.
URL:https://www.fithit.at/kurs/intensive-bodywork/2026-04-23/
LOCATION:Radstadt
CATEGORIES:Kraft
ATTACH;FMTTYPE=image/jpeg:https://www.fithit.at/wp-content/uploads/./intense-bodywork-fitnesskurs-radstadt-1.jpg
END:VEVENT
BEGIN:VEVENT
DTSTART;TZID=Europe/Berlin:20260424T080000
DTEND;TZID=Europe/Berlin:20260424T090000
DTSTAMP:20260424T121637
CREATED:20230718T081347Z
LAST-MODIFIED:20251222T100024Z
UID:10012555-1777017600-1777021200@www.fithit.at
SUMMARY:Kraft & Koordination Training
DESCRIPTION:Das Ganzkörper-Workout: leichtes Kraft und Koordination Training für einen gesunden und kräftigen Körper.
URL:https://www.fithit.at/kurs/krafttraining-2/2026-04-24/
LOCATION:Radstadt
CATEGORIES:Kraft
ATTACH;FMTTYPE=image/jpeg:https://www.fithit.at/wp-content/uploads/./krafttraining-fitnesskurs-radstadt-1.jpg
END:VEVENT
BEGIN:VEVENT
DTSTART;TZID=Europe/Berlin:20260424T170000
DTEND;TZID=Europe/Berlin:20260424T181500
DTSTAMP:20260424T121637
CREATED:20250226T100727Z
LAST-MODIFIED:20260223T090017Z
UID:10013307-1777050000-1777054500@www.fithit.at
SUMMARY:Indoor Cycling
DESCRIPTION:Für alle Fahrrad Freunde und cooler Musik \nDas gelenkschonende Ganzkörpertraining zur Verbesserung der Ausdauer\, Kraft\, Koordination und Fettverbrennung.
URL:https://www.fithit.at/kurs/indoor-cycling-beginner-2-3/2026-04-24/
LOCATION:Radstadt
CATEGORIES:Ausdauer
ATTACH;FMTTYPE=image/jpeg:https://www.fithit.at/wp-content/uploads/./cycling-beginner-fitnesskurs-radstadt-1.jpg
END:VEVENT
END:VCALENDAR