BEGIN:VCALENDAR
VERSION:2.0
PRODID:-//FITHIT-Fitnessstudio im Ennspongau - ECPv6.15.15//NONSGML v1.0//EN
CALSCALE:GREGORIAN
METHOD:PUBLISH
X-WR-CALNAME:FITHIT-Fitnessstudio im Ennspongau
X-ORIGINAL-URL:https://www.fithit.at
X-WR-CALDESC:Veranstaltungen für FITHIT-Fitnessstudio im Ennspongau
REFRESH-INTERVAL;VALUE=DURATION:PT1H
X-Robots-Tag:noindex
X-PUBLISHED-TTL:PT1H
BEGIN:VTIMEZONE
TZID:Europe/Berlin
BEGIN:DAYLIGHT
TZOFFSETFROM:+0100
TZOFFSETTO:+0200
TZNAME:CEST
DTSTART:20250330T010000
END:DAYLIGHT
BEGIN:STANDARD
TZOFFSETFROM:+0200
TZOFFSETTO:+0100
TZNAME:CET
DTSTART:20251026T010000
END:STANDARD
BEGIN:DAYLIGHT
TZOFFSETFROM:+0100
TZOFFSETTO:+0200
TZNAME:CEST
DTSTART:20260329T010000
END:DAYLIGHT
BEGIN:STANDARD
TZOFFSETFROM:+0200
TZOFFSETTO:+0100
TZNAME:CET
DTSTART:20261025T010000
END:STANDARD
BEGIN:DAYLIGHT
TZOFFSETFROM:+0100
TZOFFSETTO:+0200
TZNAME:CEST
DTSTART:20270328T010000
END:DAYLIGHT
BEGIN:STANDARD
TZOFFSETFROM:+0200
TZOFFSETTO:+0100
TZNAME:CET
DTSTART:20271031T010000
END:STANDARD
END:VTIMEZONE
BEGIN:VEVENT
DTSTART;TZID=Europe/Berlin:20261207T080000
DTEND;TZID=Europe/Berlin:20261207T093000
DTSTAMP:20260420T034535
CREATED:20250226T100915Z
LAST-MODIFIED:20260112T085440Z
UID:10012211-1796630400-1796635800@www.fithit.at
SUMMARY:Gesunder Rücken
DESCRIPTION:Spezielle Kräftigung der Tiefenmuskulatur des Rückens – ideal gegen Rückenschmerzen und Nackenverspannungen\, zur Steigerung der Körperwahrnehmung und Haltungsverbesserung. \n90 Minuten Kurs
URL:https://www.fithit.at/kurs/gesunder-ruecken-pilates-2-3/2026-12-07/
LOCATION:Radstadt
CATEGORIES:Gesundheit
ATTACH;FMTTYPE=image/jpeg:https://www.fithit.at/wp-content/uploads/DSC9506.jpg
END:VEVENT
BEGIN:VEVENT
DTSTART;TZID=Europe/Berlin:20261207T183000
DTEND;TZID=Europe/Berlin:20261207T193000
DTSTAMP:20260420T034535
CREATED:20240110T160547Z
LAST-MODIFIED:20251206T155857Z
UID:10009802-1796668200-1796671800@www.fithit.at
SUMMARY:Functional Training
DESCRIPTION:Das Ganzkörper-Workout mit freien Übungen für eine gestärkte Oberflächen- und Tiefenmuskulatur.
URL:https://www.fithit.at/kurs/functional-training-3-2-2/2026-12-07/
LOCATION:Radstadt
CATEGORIES:Kraft
ATTACH;FMTTYPE=image/jpeg:https://www.fithit.at/wp-content/uploads/./functional-training-fitnesskurs-radstadt-1.jpg
END:VEVENT
BEGIN:VEVENT
DTSTART;TZID=Europe/Berlin:20261208T183000
DTEND;TZID=Europe/Berlin:20261208T193000
DTSTAMP:20260420T034535
CREATED:20230517T132133Z
LAST-MODIFIED:20260105T191456Z
UID:10006470-1796754600-1796758200@www.fithit.at
SUMMARY:Langhantel-Training
DESCRIPTION:Intensiv & abwechslungsreich für den gezielten Muskelaufbau.
URL:https://www.fithit.at/kurs/langhantel-training/2026-12-08/
LOCATION:Radstadt
CATEGORIES:Kraft
ATTACH;FMTTYPE=image/jpeg:https://www.fithit.at/wp-content/uploads/./langhanteltraining-fitnesskurs-radstadt-1.jpg
END:VEVENT
BEGIN:VEVENT
DTSTART;TZID=Europe/Berlin:20261209T080000
DTEND;TZID=Europe/Berlin:20261209T090000
DTSTAMP:20260420T034535
CREATED:20230925T074727Z
LAST-MODIFIED:20251222T095717Z
UID:10010191-1796803200-1796806800@www.fithit.at
SUMMARY:Gesunder Rücken/Pilates
DESCRIPTION:Spezielle Kräftigung der Tiefenmuskulatur des Rückens – ideal gegen Rückenschmerzen und Nackenverspannungen\, zur Steigerung der Körperwahrnehmung und Haltungsverbesserung.
URL:https://www.fithit.at/kurs/gesunder-ruecken-pilates-2-2/2026-12-09/
LOCATION:Radstadt
CATEGORIES:Gesundheit
ATTACH;FMTTYPE=image/jpeg:https://www.fithit.at/wp-content/uploads/./yoga-fitnesskurs-radstadt-1.jpg
END:VEVENT
BEGIN:VEVENT
DTSTART;TZID=Europe/Berlin:20261209T183000
DTEND;TZID=Europe/Berlin:20261209T194500
DTSTAMP:20260420T034535
CREATED:20250710T061702Z
LAST-MODIFIED:20260323T083945Z
UID:10012903-1796841000-1796845500@www.fithit.at
SUMMARY:Yoga
DESCRIPTION:Dehnung und Stärkung der Körpermuskulatur\, Steigerung der Konzentration und Reduktion von Stress – deine Fitnesseinheit für Körper und Geist.
URL:https://www.fithit.at/kurs/yoga-2/2026-12-09/
LOCATION:Radstadt
CATEGORIES:Gesundheit
ATTACH;FMTTYPE=image/jpeg:https://www.fithit.at/wp-content/uploads/./yoga-fitnesskurs-radstadt-1.jpg
END:VEVENT
BEGIN:VEVENT
DTSTART;TZID=Europe/Berlin:20261210T183000
DTEND;TZID=Europe/Berlin:20261210T193000
DTSTAMP:20260420T034535
CREATED:20230517T131444Z
LAST-MODIFIED:20251222T095918Z
UID:10005685-1796927400-1796931000@www.fithit.at
SUMMARY:Intensive Bodywork
DESCRIPTION:Sehr intensives Training im eigenen Rhythmus und Tempo\, daher für jede Altersgruppe und auch Einsteiger/innen geeignet.
URL:https://www.fithit.at/kurs/intensive-bodywork/2026-12-10/
LOCATION:Radstadt
CATEGORIES:Kraft
ATTACH;FMTTYPE=image/jpeg:https://www.fithit.at/wp-content/uploads/./intense-bodywork-fitnesskurs-radstadt-1.jpg
END:VEVENT
BEGIN:VEVENT
DTSTART;TZID=Europe/Berlin:20261211T080000
DTEND;TZID=Europe/Berlin:20261211T090000
DTSTAMP:20260420T034535
CREATED:20230718T081347Z
LAST-MODIFIED:20251222T100024Z
UID:10012588-1796976000-1796979600@www.fithit.at
SUMMARY:Kraft & Koordination Training
DESCRIPTION:Das Ganzkörper-Workout: leichtes Kraft und Koordination Training für einen gesunden und kräftigen Körper.
URL:https://www.fithit.at/kurs/krafttraining-2/2026-12-11/
LOCATION:Radstadt
CATEGORIES:Kraft
ATTACH;FMTTYPE=image/jpeg:https://www.fithit.at/wp-content/uploads/./krafttraining-fitnesskurs-radstadt-1.jpg
END:VEVENT
BEGIN:VEVENT
DTSTART;TZID=Europe/Berlin:20261211T170000
DTEND;TZID=Europe/Berlin:20261211T181500
DTSTAMP:20260420T034535
CREATED:20250226T100727Z
LAST-MODIFIED:20260223T090017Z
UID:10013340-1797008400-1797012900@www.fithit.at
SUMMARY:Indoor Cycling
DESCRIPTION:Für alle Fahrrad Freunde und cooler Musik \nDas gelenkschonende Ganzkörpertraining zur Verbesserung der Ausdauer\, Kraft\, Koordination und Fettverbrennung.
URL:https://www.fithit.at/kurs/indoor-cycling-beginner-2-3/2026-12-11/
LOCATION:Radstadt
CATEGORIES:Ausdauer
ATTACH;FMTTYPE=image/jpeg:https://www.fithit.at/wp-content/uploads/./cycling-beginner-fitnesskurs-radstadt-1.jpg
END:VEVENT
BEGIN:VEVENT
DTSTART;TZID=Europe/Berlin:20261214T080000
DTEND;TZID=Europe/Berlin:20261214T093000
DTSTAMP:20260420T034535
CREATED:20250226T100915Z
LAST-MODIFIED:20260112T085440Z
UID:10012212-1797235200-1797240600@www.fithit.at
SUMMARY:Gesunder Rücken
DESCRIPTION:Spezielle Kräftigung der Tiefenmuskulatur des Rückens – ideal gegen Rückenschmerzen und Nackenverspannungen\, zur Steigerung der Körperwahrnehmung und Haltungsverbesserung. \n90 Minuten Kurs
URL:https://www.fithit.at/kurs/gesunder-ruecken-pilates-2-3/2026-12-14/
LOCATION:Radstadt
CATEGORIES:Gesundheit
ATTACH;FMTTYPE=image/jpeg:https://www.fithit.at/wp-content/uploads/DSC9506.jpg
END:VEVENT
BEGIN:VEVENT
DTSTART;TZID=Europe/Berlin:20261214T183000
DTEND;TZID=Europe/Berlin:20261214T193000
DTSTAMP:20260420T034535
CREATED:20240110T160547Z
LAST-MODIFIED:20251206T155857Z
UID:10009803-1797273000-1797276600@www.fithit.at
SUMMARY:Functional Training
DESCRIPTION:Das Ganzkörper-Workout mit freien Übungen für eine gestärkte Oberflächen- und Tiefenmuskulatur.
URL:https://www.fithit.at/kurs/functional-training-3-2-2/2026-12-14/
LOCATION:Radstadt
CATEGORIES:Kraft
ATTACH;FMTTYPE=image/jpeg:https://www.fithit.at/wp-content/uploads/./functional-training-fitnesskurs-radstadt-1.jpg
END:VEVENT
BEGIN:VEVENT
DTSTART;TZID=Europe/Berlin:20261215T183000
DTEND;TZID=Europe/Berlin:20261215T193000
DTSTAMP:20260420T034535
CREATED:20230517T132133Z
LAST-MODIFIED:20260105T191456Z
UID:10006471-1797359400-1797363000@www.fithit.at
SUMMARY:Langhantel-Training
DESCRIPTION:Intensiv & abwechslungsreich für den gezielten Muskelaufbau.
URL:https://www.fithit.at/kurs/langhantel-training/2026-12-15/
LOCATION:Radstadt
CATEGORIES:Kraft
ATTACH;FMTTYPE=image/jpeg:https://www.fithit.at/wp-content/uploads/./langhanteltraining-fitnesskurs-radstadt-1.jpg
END:VEVENT
BEGIN:VEVENT
DTSTART;TZID=Europe/Berlin:20261216T080000
DTEND;TZID=Europe/Berlin:20261216T090000
DTSTAMP:20260420T034535
CREATED:20230925T074727Z
LAST-MODIFIED:20251222T095717Z
UID:10010192-1797408000-1797411600@www.fithit.at
SUMMARY:Gesunder Rücken/Pilates
DESCRIPTION:Spezielle Kräftigung der Tiefenmuskulatur des Rückens – ideal gegen Rückenschmerzen und Nackenverspannungen\, zur Steigerung der Körperwahrnehmung und Haltungsverbesserung.
URL:https://www.fithit.at/kurs/gesunder-ruecken-pilates-2-2/2026-12-16/
LOCATION:Radstadt
CATEGORIES:Gesundheit
ATTACH;FMTTYPE=image/jpeg:https://www.fithit.at/wp-content/uploads/./yoga-fitnesskurs-radstadt-1.jpg
END:VEVENT
BEGIN:VEVENT
DTSTART;TZID=Europe/Berlin:20261216T183000
DTEND;TZID=Europe/Berlin:20261216T194500
DTSTAMP:20260420T034535
CREATED:20250710T061702Z
LAST-MODIFIED:20260323T083945Z
UID:10012904-1797445800-1797450300@www.fithit.at
SUMMARY:Yoga
DESCRIPTION:Dehnung und Stärkung der Körpermuskulatur\, Steigerung der Konzentration und Reduktion von Stress – deine Fitnesseinheit für Körper und Geist.
URL:https://www.fithit.at/kurs/yoga-2/2026-12-16/
LOCATION:Radstadt
CATEGORIES:Gesundheit
ATTACH;FMTTYPE=image/jpeg:https://www.fithit.at/wp-content/uploads/./yoga-fitnesskurs-radstadt-1.jpg
END:VEVENT
BEGIN:VEVENT
DTSTART;TZID=Europe/Berlin:20261217T183000
DTEND;TZID=Europe/Berlin:20261217T193000
DTSTAMP:20260420T034535
CREATED:20230517T131444Z
LAST-MODIFIED:20251222T095918Z
UID:10005686-1797532200-1797535800@www.fithit.at
SUMMARY:Intensive Bodywork
DESCRIPTION:Sehr intensives Training im eigenen Rhythmus und Tempo\, daher für jede Altersgruppe und auch Einsteiger/innen geeignet.
URL:https://www.fithit.at/kurs/intensive-bodywork/2026-12-17/
LOCATION:Radstadt
CATEGORIES:Kraft
ATTACH;FMTTYPE=image/jpeg:https://www.fithit.at/wp-content/uploads/./intense-bodywork-fitnesskurs-radstadt-1.jpg
END:VEVENT
BEGIN:VEVENT
DTSTART;TZID=Europe/Berlin:20261218T080000
DTEND;TZID=Europe/Berlin:20261218T090000
DTSTAMP:20260420T034535
CREATED:20230718T081347Z
LAST-MODIFIED:20251222T100024Z
UID:10012589-1797580800-1797584400@www.fithit.at
SUMMARY:Kraft & Koordination Training
DESCRIPTION:Das Ganzkörper-Workout: leichtes Kraft und Koordination Training für einen gesunden und kräftigen Körper.
URL:https://www.fithit.at/kurs/krafttraining-2/2026-12-18/
LOCATION:Radstadt
CATEGORIES:Kraft
ATTACH;FMTTYPE=image/jpeg:https://www.fithit.at/wp-content/uploads/./krafttraining-fitnesskurs-radstadt-1.jpg
END:VEVENT
BEGIN:VEVENT
DTSTART;TZID=Europe/Berlin:20261218T170000
DTEND;TZID=Europe/Berlin:20261218T181500
DTSTAMP:20260420T034535
CREATED:20250226T100727Z
LAST-MODIFIED:20260223T090017Z
UID:10013341-1797613200-1797617700@www.fithit.at
SUMMARY:Indoor Cycling
DESCRIPTION:Für alle Fahrrad Freunde und cooler Musik \nDas gelenkschonende Ganzkörpertraining zur Verbesserung der Ausdauer\, Kraft\, Koordination und Fettverbrennung.
URL:https://www.fithit.at/kurs/indoor-cycling-beginner-2-3/2026-12-18/
LOCATION:Radstadt
CATEGORIES:Ausdauer
ATTACH;FMTTYPE=image/jpeg:https://www.fithit.at/wp-content/uploads/./cycling-beginner-fitnesskurs-radstadt-1.jpg
END:VEVENT
BEGIN:VEVENT
DTSTART;TZID=Europe/Berlin:20261221T080000
DTEND;TZID=Europe/Berlin:20261221T093000
DTSTAMP:20260420T034535
CREATED:20250226T100915Z
LAST-MODIFIED:20260112T085440Z
UID:10012213-1797840000-1797845400@www.fithit.at
SUMMARY:Gesunder Rücken
DESCRIPTION:Spezielle Kräftigung der Tiefenmuskulatur des Rückens – ideal gegen Rückenschmerzen und Nackenverspannungen\, zur Steigerung der Körperwahrnehmung und Haltungsverbesserung. \n90 Minuten Kurs
URL:https://www.fithit.at/kurs/gesunder-ruecken-pilates-2-3/2026-12-21/
LOCATION:Radstadt
CATEGORIES:Gesundheit
ATTACH;FMTTYPE=image/jpeg:https://www.fithit.at/wp-content/uploads/DSC9506.jpg
END:VEVENT
BEGIN:VEVENT
DTSTART;TZID=Europe/Berlin:20261221T183000
DTEND;TZID=Europe/Berlin:20261221T193000
DTSTAMP:20260420T034535
CREATED:20240110T160547Z
LAST-MODIFIED:20251206T155857Z
UID:10009804-1797877800-1797881400@www.fithit.at
SUMMARY:Functional Training
DESCRIPTION:Das Ganzkörper-Workout mit freien Übungen für eine gestärkte Oberflächen- und Tiefenmuskulatur.
URL:https://www.fithit.at/kurs/functional-training-3-2-2/2026-12-21/
LOCATION:Radstadt
CATEGORIES:Kraft
ATTACH;FMTTYPE=image/jpeg:https://www.fithit.at/wp-content/uploads/./functional-training-fitnesskurs-radstadt-1.jpg
END:VEVENT
BEGIN:VEVENT
DTSTART;TZID=Europe/Berlin:20261222T183000
DTEND;TZID=Europe/Berlin:20261222T193000
DTSTAMP:20260420T034535
CREATED:20230517T132133Z
LAST-MODIFIED:20260105T191456Z
UID:10006472-1797964200-1797967800@www.fithit.at
SUMMARY:Langhantel-Training
DESCRIPTION:Intensiv & abwechslungsreich für den gezielten Muskelaufbau.
URL:https://www.fithit.at/kurs/langhantel-training/2026-12-22/
LOCATION:Radstadt
CATEGORIES:Kraft
ATTACH;FMTTYPE=image/jpeg:https://www.fithit.at/wp-content/uploads/./langhanteltraining-fitnesskurs-radstadt-1.jpg
END:VEVENT
BEGIN:VEVENT
DTSTART;TZID=Europe/Berlin:20261223T080000
DTEND;TZID=Europe/Berlin:20261223T090000
DTSTAMP:20260420T034535
CREATED:20230925T074727Z
LAST-MODIFIED:20251222T095717Z
UID:10010193-1798012800-1798016400@www.fithit.at
SUMMARY:Gesunder Rücken/Pilates
DESCRIPTION:Spezielle Kräftigung der Tiefenmuskulatur des Rückens – ideal gegen Rückenschmerzen und Nackenverspannungen\, zur Steigerung der Körperwahrnehmung und Haltungsverbesserung.
URL:https://www.fithit.at/kurs/gesunder-ruecken-pilates-2-2/2026-12-23/
LOCATION:Radstadt
CATEGORIES:Gesundheit
ATTACH;FMTTYPE=image/jpeg:https://www.fithit.at/wp-content/uploads/./yoga-fitnesskurs-radstadt-1.jpg
END:VEVENT
BEGIN:VEVENT
DTSTART;TZID=Europe/Berlin:20261223T183000
DTEND;TZID=Europe/Berlin:20261223T194500
DTSTAMP:20260420T034535
CREATED:20250710T061702Z
LAST-MODIFIED:20260323T083945Z
UID:10012905-1798050600-1798055100@www.fithit.at
SUMMARY:Yoga
DESCRIPTION:Dehnung und Stärkung der Körpermuskulatur\, Steigerung der Konzentration und Reduktion von Stress – deine Fitnesseinheit für Körper und Geist.
URL:https://www.fithit.at/kurs/yoga-2/2026-12-23/
LOCATION:Radstadt
CATEGORIES:Gesundheit
ATTACH;FMTTYPE=image/jpeg:https://www.fithit.at/wp-content/uploads/./yoga-fitnesskurs-radstadt-1.jpg
END:VEVENT
BEGIN:VEVENT
DTSTART;TZID=Europe/Berlin:20261224T183000
DTEND;TZID=Europe/Berlin:20261224T193000
DTSTAMP:20260420T034535
CREATED:20230517T131444Z
LAST-MODIFIED:20251222T095918Z
UID:10005687-1798137000-1798140600@www.fithit.at
SUMMARY:Intensive Bodywork
DESCRIPTION:Sehr intensives Training im eigenen Rhythmus und Tempo\, daher für jede Altersgruppe und auch Einsteiger/innen geeignet.
URL:https://www.fithit.at/kurs/intensive-bodywork/2026-12-24/
LOCATION:Radstadt
CATEGORIES:Kraft
ATTACH;FMTTYPE=image/jpeg:https://www.fithit.at/wp-content/uploads/./intense-bodywork-fitnesskurs-radstadt-1.jpg
END:VEVENT
BEGIN:VEVENT
DTSTART;TZID=Europe/Berlin:20261225T080000
DTEND;TZID=Europe/Berlin:20261225T090000
DTSTAMP:20260420T034535
CREATED:20230718T081347Z
LAST-MODIFIED:20251222T100024Z
UID:10012590-1798185600-1798189200@www.fithit.at
SUMMARY:Kraft & Koordination Training
DESCRIPTION:Das Ganzkörper-Workout: leichtes Kraft und Koordination Training für einen gesunden und kräftigen Körper.
URL:https://www.fithit.at/kurs/krafttraining-2/2026-12-25/
LOCATION:Radstadt
CATEGORIES:Kraft
ATTACH;FMTTYPE=image/jpeg:https://www.fithit.at/wp-content/uploads/./krafttraining-fitnesskurs-radstadt-1.jpg
END:VEVENT
BEGIN:VEVENT
DTSTART;TZID=Europe/Berlin:20261225T170000
DTEND;TZID=Europe/Berlin:20261225T181500
DTSTAMP:20260420T034535
CREATED:20250226T100727Z
LAST-MODIFIED:20260223T090017Z
UID:10013342-1798218000-1798222500@www.fithit.at
SUMMARY:Indoor Cycling
DESCRIPTION:Für alle Fahrrad Freunde und cooler Musik \nDas gelenkschonende Ganzkörpertraining zur Verbesserung der Ausdauer\, Kraft\, Koordination und Fettverbrennung.
URL:https://www.fithit.at/kurs/indoor-cycling-beginner-2-3/2026-12-25/
LOCATION:Radstadt
CATEGORIES:Ausdauer
ATTACH;FMTTYPE=image/jpeg:https://www.fithit.at/wp-content/uploads/./cycling-beginner-fitnesskurs-radstadt-1.jpg
END:VEVENT
BEGIN:VEVENT
DTSTART;TZID=Europe/Berlin:20261228T080000
DTEND;TZID=Europe/Berlin:20261228T093000
DTSTAMP:20260420T034535
CREATED:20250226T100915Z
LAST-MODIFIED:20260112T085440Z
UID:10012214-1798444800-1798450200@www.fithit.at
SUMMARY:Gesunder Rücken
DESCRIPTION:Spezielle Kräftigung der Tiefenmuskulatur des Rückens – ideal gegen Rückenschmerzen und Nackenverspannungen\, zur Steigerung der Körperwahrnehmung und Haltungsverbesserung. \n90 Minuten Kurs
URL:https://www.fithit.at/kurs/gesunder-ruecken-pilates-2-3/2026-12-28/
LOCATION:Radstadt
CATEGORIES:Gesundheit
ATTACH;FMTTYPE=image/jpeg:https://www.fithit.at/wp-content/uploads/DSC9506.jpg
END:VEVENT
BEGIN:VEVENT
DTSTART;TZID=Europe/Berlin:20261228T183000
DTEND;TZID=Europe/Berlin:20261228T193000
DTSTAMP:20260420T034535
CREATED:20240110T160547Z
LAST-MODIFIED:20251206T155857Z
UID:10009805-1798482600-1798486200@www.fithit.at
SUMMARY:Functional Training
DESCRIPTION:Das Ganzkörper-Workout mit freien Übungen für eine gestärkte Oberflächen- und Tiefenmuskulatur.
URL:https://www.fithit.at/kurs/functional-training-3-2-2/2026-12-28/
LOCATION:Radstadt
CATEGORIES:Kraft
ATTACH;FMTTYPE=image/jpeg:https://www.fithit.at/wp-content/uploads/./functional-training-fitnesskurs-radstadt-1.jpg
END:VEVENT
BEGIN:VEVENT
DTSTART;TZID=Europe/Berlin:20261229T183000
DTEND;TZID=Europe/Berlin:20261229T193000
DTSTAMP:20260420T034535
CREATED:20230517T132133Z
LAST-MODIFIED:20260105T191456Z
UID:10006473-1798569000-1798572600@www.fithit.at
SUMMARY:Langhantel-Training
DESCRIPTION:Intensiv & abwechslungsreich für den gezielten Muskelaufbau.
URL:https://www.fithit.at/kurs/langhantel-training/2026-12-29/
LOCATION:Radstadt
CATEGORIES:Kraft
ATTACH;FMTTYPE=image/jpeg:https://www.fithit.at/wp-content/uploads/./langhanteltraining-fitnesskurs-radstadt-1.jpg
END:VEVENT
BEGIN:VEVENT
DTSTART;TZID=Europe/Berlin:20261230T080000
DTEND;TZID=Europe/Berlin:20261230T090000
DTSTAMP:20260420T034535
CREATED:20230925T074727Z
LAST-MODIFIED:20251222T095717Z
UID:10010194-1798617600-1798621200@www.fithit.at
SUMMARY:Gesunder Rücken/Pilates
DESCRIPTION:Spezielle Kräftigung der Tiefenmuskulatur des Rückens – ideal gegen Rückenschmerzen und Nackenverspannungen\, zur Steigerung der Körperwahrnehmung und Haltungsverbesserung.
URL:https://www.fithit.at/kurs/gesunder-ruecken-pilates-2-2/2026-12-30/
LOCATION:Radstadt
CATEGORIES:Gesundheit
ATTACH;FMTTYPE=image/jpeg:https://www.fithit.at/wp-content/uploads/./yoga-fitnesskurs-radstadt-1.jpg
END:VEVENT
BEGIN:VEVENT
DTSTART;TZID=Europe/Berlin:20261230T183000
DTEND;TZID=Europe/Berlin:20261230T194500
DTSTAMP:20260420T034535
CREATED:20250710T061702Z
LAST-MODIFIED:20260323T083945Z
UID:10012906-1798655400-1798659900@www.fithit.at
SUMMARY:Yoga
DESCRIPTION:Dehnung und Stärkung der Körpermuskulatur\, Steigerung der Konzentration und Reduktion von Stress – deine Fitnesseinheit für Körper und Geist.
URL:https://www.fithit.at/kurs/yoga-2/2026-12-30/
LOCATION:Radstadt
CATEGORIES:Gesundheit
ATTACH;FMTTYPE=image/jpeg:https://www.fithit.at/wp-content/uploads/./yoga-fitnesskurs-radstadt-1.jpg
END:VEVENT
BEGIN:VEVENT
DTSTART;TZID=Europe/Berlin:20261231T183000
DTEND;TZID=Europe/Berlin:20261231T193000
DTSTAMP:20260420T034535
CREATED:20230517T131444Z
LAST-MODIFIED:20251222T095918Z
UID:10005688-1798741800-1798745400@www.fithit.at
SUMMARY:Intensive Bodywork
DESCRIPTION:Sehr intensives Training im eigenen Rhythmus und Tempo\, daher für jede Altersgruppe und auch Einsteiger/innen geeignet.
URL:https://www.fithit.at/kurs/intensive-bodywork/2026-12-31/
LOCATION:Radstadt
CATEGORIES:Kraft
ATTACH;FMTTYPE=image/jpeg:https://www.fithit.at/wp-content/uploads/./intense-bodywork-fitnesskurs-radstadt-1.jpg
END:VEVENT
END:VCALENDAR