BEGIN:VCALENDAR
VERSION:2.0
PRODID:-//FITHIT-Fitnessstudio im Ennspongau - ECPv6.15.15//NONSGML v1.0//EN
CALSCALE:GREGORIAN
METHOD:PUBLISH
X-ORIGINAL-URL:https://www.fithit.at
X-WR-CALDESC:Veranstaltungen für FITHIT-Fitnessstudio im Ennspongau
REFRESH-INTERVAL;VALUE=DURATION:PT1H
X-Robots-Tag:noindex
X-PUBLISHED-TTL:PT1H
BEGIN:VTIMEZONE
TZID:Europe/Berlin
BEGIN:DAYLIGHT
TZOFFSETFROM:+0100
TZOFFSETTO:+0200
TZNAME:CEST
DTSTART:20250330T010000
END:DAYLIGHT
BEGIN:STANDARD
TZOFFSETFROM:+0200
TZOFFSETTO:+0100
TZNAME:CET
DTSTART:20251026T010000
END:STANDARD
BEGIN:DAYLIGHT
TZOFFSETFROM:+0100
TZOFFSETTO:+0200
TZNAME:CEST
DTSTART:20260329T010000
END:DAYLIGHT
BEGIN:STANDARD
TZOFFSETFROM:+0200
TZOFFSETTO:+0100
TZNAME:CET
DTSTART:20261025T010000
END:STANDARD
BEGIN:DAYLIGHT
TZOFFSETFROM:+0100
TZOFFSETTO:+0200
TZNAME:CEST
DTSTART:20270328T010000
END:DAYLIGHT
BEGIN:STANDARD
TZOFFSETFROM:+0200
TZOFFSETTO:+0100
TZNAME:CET
DTSTART:20271031T010000
END:STANDARD
BEGIN:DAYLIGHT
TZOFFSETFROM:+0100
TZOFFSETTO:+0200
TZNAME:CEST
DTSTART:20280326T010000
END:DAYLIGHT
BEGIN:STANDARD
TZOFFSETFROM:+0200
TZOFFSETTO:+0100
TZNAME:CET
DTSTART:20281029T010000
END:STANDARD
END:VTIMEZONE
BEGIN:VEVENT
DTSTART;TZID=Europe/Berlin:20261228T080000
DTEND;TZID=Europe/Berlin:20261228T093000
DTSTAMP:20260420T072546
CREATED:20250226T100915Z
LAST-MODIFIED:20260112T085440Z
UID:10012214-1798444800-1798450200@www.fithit.at
SUMMARY:Gesunder Rücken
DESCRIPTION:Spezielle Kräftigung der Tiefenmuskulatur des Rückens – ideal gegen Rückenschmerzen und Nackenverspannungen\, zur Steigerung der Körperwahrnehmung und Haltungsverbesserung. \n90 Minuten Kurs
URL:https://www.fithit.at/kurs/gesunder-ruecken-pilates-2-3/2026-12-28/
LOCATION:Radstadt
CATEGORIES:Gesundheit
ATTACH;FMTTYPE=image/jpeg:https://www.fithit.at/wp-content/uploads/DSC9506.jpg
END:VEVENT
BEGIN:VEVENT
DTSTART;TZID=Europe/Berlin:20261228T183000
DTEND;TZID=Europe/Berlin:20261228T193000
DTSTAMP:20260420T072546
CREATED:20240110T160547Z
LAST-MODIFIED:20251206T155857Z
UID:10009805-1798482600-1798486200@www.fithit.at
SUMMARY:Functional Training
DESCRIPTION:Das Ganzkörper-Workout mit freien Übungen für eine gestärkte Oberflächen- und Tiefenmuskulatur.
URL:https://www.fithit.at/kurs/functional-training-3-2-2/2026-12-28/
LOCATION:Radstadt
CATEGORIES:Kraft
ATTACH;FMTTYPE=image/jpeg:https://www.fithit.at/wp-content/uploads/./functional-training-fitnesskurs-radstadt-1.jpg
END:VEVENT
BEGIN:VEVENT
DTSTART;TZID=Europe/Berlin:20261229T183000
DTEND;TZID=Europe/Berlin:20261229T193000
DTSTAMP:20260420T072546
CREATED:20230517T132133Z
LAST-MODIFIED:20260105T191456Z
UID:10006473-1798569000-1798572600@www.fithit.at
SUMMARY:Langhantel-Training
DESCRIPTION:Intensiv & abwechslungsreich für den gezielten Muskelaufbau.
URL:https://www.fithit.at/kurs/langhantel-training/2026-12-29/
LOCATION:Radstadt
CATEGORIES:Kraft
ATTACH;FMTTYPE=image/jpeg:https://www.fithit.at/wp-content/uploads/./langhanteltraining-fitnesskurs-radstadt-1.jpg
END:VEVENT
BEGIN:VEVENT
DTSTART;TZID=Europe/Berlin:20261230T080000
DTEND;TZID=Europe/Berlin:20261230T090000
DTSTAMP:20260420T072546
CREATED:20230925T074727Z
LAST-MODIFIED:20251222T095717Z
UID:10010194-1798617600-1798621200@www.fithit.at
SUMMARY:Gesunder Rücken/Pilates
DESCRIPTION:Spezielle Kräftigung der Tiefenmuskulatur des Rückens – ideal gegen Rückenschmerzen und Nackenverspannungen\, zur Steigerung der Körperwahrnehmung und Haltungsverbesserung.
URL:https://www.fithit.at/kurs/gesunder-ruecken-pilates-2-2/2026-12-30/
LOCATION:Radstadt
CATEGORIES:Gesundheit
ATTACH;FMTTYPE=image/jpeg:https://www.fithit.at/wp-content/uploads/./yoga-fitnesskurs-radstadt-1.jpg
END:VEVENT
BEGIN:VEVENT
DTSTART;TZID=Europe/Berlin:20261230T183000
DTEND;TZID=Europe/Berlin:20261230T194500
DTSTAMP:20260420T072546
CREATED:20250710T061702Z
LAST-MODIFIED:20260323T083945Z
UID:10012906-1798655400-1798659900@www.fithit.at
SUMMARY:Yoga
DESCRIPTION:Dehnung und Stärkung der Körpermuskulatur\, Steigerung der Konzentration und Reduktion von Stress – deine Fitnesseinheit für Körper und Geist.
URL:https://www.fithit.at/kurs/yoga-2/2026-12-30/
LOCATION:Radstadt
CATEGORIES:Gesundheit
ATTACH;FMTTYPE=image/jpeg:https://www.fithit.at/wp-content/uploads/./yoga-fitnesskurs-radstadt-1.jpg
END:VEVENT
BEGIN:VEVENT
DTSTART;TZID=Europe/Berlin:20261231T183000
DTEND;TZID=Europe/Berlin:20261231T193000
DTSTAMP:20260420T072546
CREATED:20230517T131444Z
LAST-MODIFIED:20251222T095918Z
UID:10005688-1798741800-1798745400@www.fithit.at
SUMMARY:Intensive Bodywork
DESCRIPTION:Sehr intensives Training im eigenen Rhythmus und Tempo\, daher für jede Altersgruppe und auch Einsteiger/innen geeignet.
URL:https://www.fithit.at/kurs/intensive-bodywork/2026-12-31/
LOCATION:Radstadt
CATEGORIES:Kraft
ATTACH;FMTTYPE=image/jpeg:https://www.fithit.at/wp-content/uploads/./intense-bodywork-fitnesskurs-radstadt-1.jpg
END:VEVENT
BEGIN:VEVENT
DTSTART;TZID=Europe/Berlin:20270101T080000
DTEND;TZID=Europe/Berlin:20270101T090000
DTSTAMP:20260420T072546
CREATED:20230718T081347Z
LAST-MODIFIED:20251222T100024Z
UID:10012591-1798790400-1798794000@www.fithit.at
SUMMARY:Kraft & Koordination Training
DESCRIPTION:Das Ganzkörper-Workout: leichtes Kraft und Koordination Training für einen gesunden und kräftigen Körper.
URL:https://www.fithit.at/kurs/krafttraining-2/2027-01-01/
LOCATION:Radstadt
CATEGORIES:Kraft
ATTACH;FMTTYPE=image/jpeg:https://www.fithit.at/wp-content/uploads/./krafttraining-fitnesskurs-radstadt-1.jpg
END:VEVENT
BEGIN:VEVENT
DTSTART;TZID=Europe/Berlin:20270101T170000
DTEND;TZID=Europe/Berlin:20270101T181500
DTSTAMP:20260420T072546
CREATED:20250226T100727Z
LAST-MODIFIED:20260223T090017Z
UID:10013343-1798822800-1798827300@www.fithit.at
SUMMARY:Indoor Cycling
DESCRIPTION:Für alle Fahrrad Freunde und cooler Musik \nDas gelenkschonende Ganzkörpertraining zur Verbesserung der Ausdauer\, Kraft\, Koordination und Fettverbrennung.
URL:https://www.fithit.at/kurs/indoor-cycling-beginner-2-3/2027-01-01/
LOCATION:Radstadt
CATEGORIES:Ausdauer
ATTACH;FMTTYPE=image/jpeg:https://www.fithit.at/wp-content/uploads/./cycling-beginner-fitnesskurs-radstadt-1.jpg
END:VEVENT
BEGIN:VEVENT
DTSTART;TZID=Europe/Berlin:20270104T080000
DTEND;TZID=Europe/Berlin:20270104T093000
DTSTAMP:20260420T072546
CREATED:20250226T100915Z
LAST-MODIFIED:20260112T085440Z
UID:10012215-1799049600-1799055000@www.fithit.at
SUMMARY:Gesunder Rücken
DESCRIPTION:Spezielle Kräftigung der Tiefenmuskulatur des Rückens – ideal gegen Rückenschmerzen und Nackenverspannungen\, zur Steigerung der Körperwahrnehmung und Haltungsverbesserung. \n90 Minuten Kurs
URL:https://www.fithit.at/kurs/gesunder-ruecken-pilates-2-3/2027-01-04/
LOCATION:Radstadt
CATEGORIES:Gesundheit
ATTACH;FMTTYPE=image/jpeg:https://www.fithit.at/wp-content/uploads/DSC9506.jpg
END:VEVENT
BEGIN:VEVENT
DTSTART;TZID=Europe/Berlin:20270104T183000
DTEND;TZID=Europe/Berlin:20270104T193000
DTSTAMP:20260420T072546
CREATED:20240110T160547Z
LAST-MODIFIED:20251206T155857Z
UID:10009806-1799087400-1799091000@www.fithit.at
SUMMARY:Functional Training
DESCRIPTION:Das Ganzkörper-Workout mit freien Übungen für eine gestärkte Oberflächen- und Tiefenmuskulatur.
URL:https://www.fithit.at/kurs/functional-training-3-2-2/2027-01-04/
LOCATION:Radstadt
CATEGORIES:Kraft
ATTACH;FMTTYPE=image/jpeg:https://www.fithit.at/wp-content/uploads/./functional-training-fitnesskurs-radstadt-1.jpg
END:VEVENT
BEGIN:VEVENT
DTSTART;TZID=Europe/Berlin:20270105T183000
DTEND;TZID=Europe/Berlin:20270105T193000
DTSTAMP:20260420T072546
CREATED:20230517T132133Z
LAST-MODIFIED:20260105T191456Z
UID:10006474-1799173800-1799177400@www.fithit.at
SUMMARY:Langhantel-Training
DESCRIPTION:Intensiv & abwechslungsreich für den gezielten Muskelaufbau.
URL:https://www.fithit.at/kurs/langhantel-training/2027-01-05/
LOCATION:Radstadt
CATEGORIES:Kraft
ATTACH;FMTTYPE=image/jpeg:https://www.fithit.at/wp-content/uploads/./langhanteltraining-fitnesskurs-radstadt-1.jpg
END:VEVENT
BEGIN:VEVENT
DTSTART;TZID=Europe/Berlin:20270106T080000
DTEND;TZID=Europe/Berlin:20270106T090000
DTSTAMP:20260420T072546
CREATED:20230925T074727Z
LAST-MODIFIED:20251222T095717Z
UID:10010195-1799222400-1799226000@www.fithit.at
SUMMARY:Gesunder Rücken/Pilates
DESCRIPTION:Spezielle Kräftigung der Tiefenmuskulatur des Rückens – ideal gegen Rückenschmerzen und Nackenverspannungen\, zur Steigerung der Körperwahrnehmung und Haltungsverbesserung.
URL:https://www.fithit.at/kurs/gesunder-ruecken-pilates-2-2/2027-01-06/
LOCATION:Radstadt
CATEGORIES:Gesundheit
ATTACH;FMTTYPE=image/jpeg:https://www.fithit.at/wp-content/uploads/./yoga-fitnesskurs-radstadt-1.jpg
END:VEVENT
BEGIN:VEVENT
DTSTART;TZID=Europe/Berlin:20270106T183000
DTEND;TZID=Europe/Berlin:20270106T194500
DTSTAMP:20260420T072546
CREATED:20250710T061702Z
LAST-MODIFIED:20260323T083945Z
UID:10012907-1799260200-1799264700@www.fithit.at
SUMMARY:Yoga
DESCRIPTION:Dehnung und Stärkung der Körpermuskulatur\, Steigerung der Konzentration und Reduktion von Stress – deine Fitnesseinheit für Körper und Geist.
URL:https://www.fithit.at/kurs/yoga-2/2027-01-06/
LOCATION:Radstadt
CATEGORIES:Gesundheit
ATTACH;FMTTYPE=image/jpeg:https://www.fithit.at/wp-content/uploads/./yoga-fitnesskurs-radstadt-1.jpg
END:VEVENT
BEGIN:VEVENT
DTSTART;TZID=Europe/Berlin:20270107T183000
DTEND;TZID=Europe/Berlin:20270107T193000
DTSTAMP:20260420T072546
CREATED:20230517T131444Z
LAST-MODIFIED:20251222T095918Z
UID:10005689-1799346600-1799350200@www.fithit.at
SUMMARY:Intensive Bodywork
DESCRIPTION:Sehr intensives Training im eigenen Rhythmus und Tempo\, daher für jede Altersgruppe und auch Einsteiger/innen geeignet.
URL:https://www.fithit.at/kurs/intensive-bodywork/2027-01-07/
LOCATION:Radstadt
CATEGORIES:Kraft
ATTACH;FMTTYPE=image/jpeg:https://www.fithit.at/wp-content/uploads/./intense-bodywork-fitnesskurs-radstadt-1.jpg
END:VEVENT
BEGIN:VEVENT
DTSTART;TZID=Europe/Berlin:20270108T080000
DTEND;TZID=Europe/Berlin:20270108T090000
DTSTAMP:20260420T072546
CREATED:20230718T081347Z
LAST-MODIFIED:20251222T100024Z
UID:10012592-1799395200-1799398800@www.fithit.at
SUMMARY:Kraft & Koordination Training
DESCRIPTION:Das Ganzkörper-Workout: leichtes Kraft und Koordination Training für einen gesunden und kräftigen Körper.
URL:https://www.fithit.at/kurs/krafttraining-2/2027-01-08/
LOCATION:Radstadt
CATEGORIES:Kraft
ATTACH;FMTTYPE=image/jpeg:https://www.fithit.at/wp-content/uploads/./krafttraining-fitnesskurs-radstadt-1.jpg
END:VEVENT
BEGIN:VEVENT
DTSTART;TZID=Europe/Berlin:20270108T170000
DTEND;TZID=Europe/Berlin:20270108T181500
DTSTAMP:20260420T072546
CREATED:20250226T100727Z
LAST-MODIFIED:20260223T090017Z
UID:10013344-1799427600-1799432100@www.fithit.at
SUMMARY:Indoor Cycling
DESCRIPTION:Für alle Fahrrad Freunde und cooler Musik \nDas gelenkschonende Ganzkörpertraining zur Verbesserung der Ausdauer\, Kraft\, Koordination und Fettverbrennung.
URL:https://www.fithit.at/kurs/indoor-cycling-beginner-2-3/2027-01-08/
LOCATION:Radstadt
CATEGORIES:Ausdauer
ATTACH;FMTTYPE=image/jpeg:https://www.fithit.at/wp-content/uploads/./cycling-beginner-fitnesskurs-radstadt-1.jpg
END:VEVENT
BEGIN:VEVENT
DTSTART;TZID=Europe/Berlin:20270111T080000
DTEND;TZID=Europe/Berlin:20270111T093000
DTSTAMP:20260420T072546
CREATED:20250226T100915Z
LAST-MODIFIED:20260112T085440Z
UID:10012216-1799654400-1799659800@www.fithit.at
SUMMARY:Gesunder Rücken
DESCRIPTION:Spezielle Kräftigung der Tiefenmuskulatur des Rückens – ideal gegen Rückenschmerzen und Nackenverspannungen\, zur Steigerung der Körperwahrnehmung und Haltungsverbesserung. \n90 Minuten Kurs
URL:https://www.fithit.at/kurs/gesunder-ruecken-pilates-2-3/2027-01-11/
LOCATION:Radstadt
CATEGORIES:Gesundheit
ATTACH;FMTTYPE=image/jpeg:https://www.fithit.at/wp-content/uploads/DSC9506.jpg
END:VEVENT
BEGIN:VEVENT
DTSTART;TZID=Europe/Berlin:20270111T183000
DTEND;TZID=Europe/Berlin:20270111T193000
DTSTAMP:20260420T072546
CREATED:20240110T160547Z
LAST-MODIFIED:20251206T155857Z
UID:10009807-1799692200-1799695800@www.fithit.at
SUMMARY:Functional Training
DESCRIPTION:Das Ganzkörper-Workout mit freien Übungen für eine gestärkte Oberflächen- und Tiefenmuskulatur.
URL:https://www.fithit.at/kurs/functional-training-3-2-2/2027-01-11/
LOCATION:Radstadt
CATEGORIES:Kraft
ATTACH;FMTTYPE=image/jpeg:https://www.fithit.at/wp-content/uploads/./functional-training-fitnesskurs-radstadt-1.jpg
END:VEVENT
BEGIN:VEVENT
DTSTART;TZID=Europe/Berlin:20270112T183000
DTEND;TZID=Europe/Berlin:20270112T193000
DTSTAMP:20260420T072546
CREATED:20230517T132133Z
LAST-MODIFIED:20260105T191456Z
UID:10006475-1799778600-1799782200@www.fithit.at
SUMMARY:Langhantel-Training
DESCRIPTION:Intensiv & abwechslungsreich für den gezielten Muskelaufbau.
URL:https://www.fithit.at/kurs/langhantel-training/2027-01-12/
LOCATION:Radstadt
CATEGORIES:Kraft
ATTACH;FMTTYPE=image/jpeg:https://www.fithit.at/wp-content/uploads/./langhanteltraining-fitnesskurs-radstadt-1.jpg
END:VEVENT
BEGIN:VEVENT
DTSTART;TZID=Europe/Berlin:20270113T080000
DTEND;TZID=Europe/Berlin:20270113T090000
DTSTAMP:20260420T072546
CREATED:20230925T074727Z
LAST-MODIFIED:20251222T095717Z
UID:10010196-1799827200-1799830800@www.fithit.at
SUMMARY:Gesunder Rücken/Pilates
DESCRIPTION:Spezielle Kräftigung der Tiefenmuskulatur des Rückens – ideal gegen Rückenschmerzen und Nackenverspannungen\, zur Steigerung der Körperwahrnehmung und Haltungsverbesserung.
URL:https://www.fithit.at/kurs/gesunder-ruecken-pilates-2-2/2027-01-13/
LOCATION:Radstadt
CATEGORIES:Gesundheit
ATTACH;FMTTYPE=image/jpeg:https://www.fithit.at/wp-content/uploads/./yoga-fitnesskurs-radstadt-1.jpg
END:VEVENT
BEGIN:VEVENT
DTSTART;TZID=Europe/Berlin:20270113T183000
DTEND;TZID=Europe/Berlin:20270113T194500
DTSTAMP:20260420T072546
CREATED:20250710T061702Z
LAST-MODIFIED:20260323T083945Z
UID:10012908-1799865000-1799869500@www.fithit.at
SUMMARY:Yoga
DESCRIPTION:Dehnung und Stärkung der Körpermuskulatur\, Steigerung der Konzentration und Reduktion von Stress – deine Fitnesseinheit für Körper und Geist.
URL:https://www.fithit.at/kurs/yoga-2/2027-01-13/
LOCATION:Radstadt
CATEGORIES:Gesundheit
ATTACH;FMTTYPE=image/jpeg:https://www.fithit.at/wp-content/uploads/./yoga-fitnesskurs-radstadt-1.jpg
END:VEVENT
BEGIN:VEVENT
DTSTART;TZID=Europe/Berlin:20270114T183000
DTEND;TZID=Europe/Berlin:20270114T193000
DTSTAMP:20260420T072546
CREATED:20230517T131444Z
LAST-MODIFIED:20251222T095918Z
UID:10005690-1799951400-1799955000@www.fithit.at
SUMMARY:Intensive Bodywork
DESCRIPTION:Sehr intensives Training im eigenen Rhythmus und Tempo\, daher für jede Altersgruppe und auch Einsteiger/innen geeignet.
URL:https://www.fithit.at/kurs/intensive-bodywork/2027-01-14/
LOCATION:Radstadt
CATEGORIES:Kraft
ATTACH;FMTTYPE=image/jpeg:https://www.fithit.at/wp-content/uploads/./intense-bodywork-fitnesskurs-radstadt-1.jpg
END:VEVENT
BEGIN:VEVENT
DTSTART;TZID=Europe/Berlin:20270115T080000
DTEND;TZID=Europe/Berlin:20270115T090000
DTSTAMP:20260420T072546
CREATED:20230718T081347Z
LAST-MODIFIED:20251222T100024Z
UID:10012593-1800000000-1800003600@www.fithit.at
SUMMARY:Kraft & Koordination Training
DESCRIPTION:Das Ganzkörper-Workout: leichtes Kraft und Koordination Training für einen gesunden und kräftigen Körper.
URL:https://www.fithit.at/kurs/krafttraining-2/2027-01-15/
LOCATION:Radstadt
CATEGORIES:Kraft
ATTACH;FMTTYPE=image/jpeg:https://www.fithit.at/wp-content/uploads/./krafttraining-fitnesskurs-radstadt-1.jpg
END:VEVENT
BEGIN:VEVENT
DTSTART;TZID=Europe/Berlin:20270115T170000
DTEND;TZID=Europe/Berlin:20270115T181500
DTSTAMP:20260420T072546
CREATED:20250226T100727Z
LAST-MODIFIED:20260223T090017Z
UID:10013345-1800032400-1800036900@www.fithit.at
SUMMARY:Indoor Cycling
DESCRIPTION:Für alle Fahrrad Freunde und cooler Musik \nDas gelenkschonende Ganzkörpertraining zur Verbesserung der Ausdauer\, Kraft\, Koordination und Fettverbrennung.
URL:https://www.fithit.at/kurs/indoor-cycling-beginner-2-3/2027-01-15/
LOCATION:Radstadt
CATEGORIES:Ausdauer
ATTACH;FMTTYPE=image/jpeg:https://www.fithit.at/wp-content/uploads/./cycling-beginner-fitnesskurs-radstadt-1.jpg
END:VEVENT
BEGIN:VEVENT
DTSTART;TZID=Europe/Berlin:20270118T080000
DTEND;TZID=Europe/Berlin:20270118T093000
DTSTAMP:20260420T072546
CREATED:20250226T100915Z
LAST-MODIFIED:20260112T085440Z
UID:10012217-1800259200-1800264600@www.fithit.at
SUMMARY:Gesunder Rücken
DESCRIPTION:Spezielle Kräftigung der Tiefenmuskulatur des Rückens – ideal gegen Rückenschmerzen und Nackenverspannungen\, zur Steigerung der Körperwahrnehmung und Haltungsverbesserung. \n90 Minuten Kurs
URL:https://www.fithit.at/kurs/gesunder-ruecken-pilates-2-3/2027-01-18/
LOCATION:Radstadt
CATEGORIES:Gesundheit
ATTACH;FMTTYPE=image/jpeg:https://www.fithit.at/wp-content/uploads/DSC9506.jpg
END:VEVENT
BEGIN:VEVENT
DTSTART;TZID=Europe/Berlin:20270118T183000
DTEND;TZID=Europe/Berlin:20270118T193000
DTSTAMP:20260420T072546
CREATED:20240110T160547Z
LAST-MODIFIED:20251206T155857Z
UID:10009808-1800297000-1800300600@www.fithit.at
SUMMARY:Functional Training
DESCRIPTION:Das Ganzkörper-Workout mit freien Übungen für eine gestärkte Oberflächen- und Tiefenmuskulatur.
URL:https://www.fithit.at/kurs/functional-training-3-2-2/2027-01-18/
LOCATION:Radstadt
CATEGORIES:Kraft
ATTACH;FMTTYPE=image/jpeg:https://www.fithit.at/wp-content/uploads/./functional-training-fitnesskurs-radstadt-1.jpg
END:VEVENT
BEGIN:VEVENT
DTSTART;TZID=Europe/Berlin:20270119T183000
DTEND;TZID=Europe/Berlin:20270119T193000
DTSTAMP:20260420T072546
CREATED:20230517T132133Z
LAST-MODIFIED:20260105T191456Z
UID:10006476-1800383400-1800387000@www.fithit.at
SUMMARY:Langhantel-Training
DESCRIPTION:Intensiv & abwechslungsreich für den gezielten Muskelaufbau.
URL:https://www.fithit.at/kurs/langhantel-training/2027-01-19/
LOCATION:Radstadt
CATEGORIES:Kraft
ATTACH;FMTTYPE=image/jpeg:https://www.fithit.at/wp-content/uploads/./langhanteltraining-fitnesskurs-radstadt-1.jpg
END:VEVENT
BEGIN:VEVENT
DTSTART;TZID=Europe/Berlin:20270120T080000
DTEND;TZID=Europe/Berlin:20270120T090000
DTSTAMP:20260420T072546
CREATED:20230925T074727Z
LAST-MODIFIED:20251222T095717Z
UID:10010197-1800432000-1800435600@www.fithit.at
SUMMARY:Gesunder Rücken/Pilates
DESCRIPTION:Spezielle Kräftigung der Tiefenmuskulatur des Rückens – ideal gegen Rückenschmerzen und Nackenverspannungen\, zur Steigerung der Körperwahrnehmung und Haltungsverbesserung.
URL:https://www.fithit.at/kurs/gesunder-ruecken-pilates-2-2/2027-01-20/
LOCATION:Radstadt
CATEGORIES:Gesundheit
ATTACH;FMTTYPE=image/jpeg:https://www.fithit.at/wp-content/uploads/./yoga-fitnesskurs-radstadt-1.jpg
END:VEVENT
BEGIN:VEVENT
DTSTART;TZID=Europe/Berlin:20270120T183000
DTEND;TZID=Europe/Berlin:20270120T194500
DTSTAMP:20260420T072546
CREATED:20250710T061702Z
LAST-MODIFIED:20260323T083945Z
UID:10012909-1800469800-1800474300@www.fithit.at
SUMMARY:Yoga
DESCRIPTION:Dehnung und Stärkung der Körpermuskulatur\, Steigerung der Konzentration und Reduktion von Stress – deine Fitnesseinheit für Körper und Geist.
URL:https://www.fithit.at/kurs/yoga-2/2027-01-20/
LOCATION:Radstadt
CATEGORIES:Gesundheit
ATTACH;FMTTYPE=image/jpeg:https://www.fithit.at/wp-content/uploads/./yoga-fitnesskurs-radstadt-1.jpg
END:VEVENT
BEGIN:VEVENT
DTSTART;TZID=Europe/Berlin:20270121T183000
DTEND;TZID=Europe/Berlin:20270121T193000
DTSTAMP:20260420T072546
CREATED:20230517T131444Z
LAST-MODIFIED:20251222T095918Z
UID:10005691-1800556200-1800559800@www.fithit.at
SUMMARY:Intensive Bodywork
DESCRIPTION:Sehr intensives Training im eigenen Rhythmus und Tempo\, daher für jede Altersgruppe und auch Einsteiger/innen geeignet.
URL:https://www.fithit.at/kurs/intensive-bodywork/2027-01-21/
LOCATION:Radstadt
CATEGORIES:Kraft
ATTACH;FMTTYPE=image/jpeg:https://www.fithit.at/wp-content/uploads/./intense-bodywork-fitnesskurs-radstadt-1.jpg
END:VEVENT
END:VCALENDAR