BEGIN:VCALENDAR
VERSION:2.0
PRODID:-//FITHIT-Fitnessstudio im Ennspongau - ECPv6.15.15//NONSGML v1.0//EN
CALSCALE:GREGORIAN
METHOD:PUBLISH
X-ORIGINAL-URL:https://www.fithit.at
X-WR-CALDESC:Veranstaltungen für FITHIT-Fitnessstudio im Ennspongau
REFRESH-INTERVAL;VALUE=DURATION:PT1H
X-Robots-Tag:noindex
X-PUBLISHED-TTL:PT1H
BEGIN:VTIMEZONE
TZID:Europe/Berlin
BEGIN:DAYLIGHT
TZOFFSETFROM:+0100
TZOFFSETTO:+0200
TZNAME:CEST
DTSTART:20240331T010000
END:DAYLIGHT
BEGIN:STANDARD
TZOFFSETFROM:+0200
TZOFFSETTO:+0100
TZNAME:CET
DTSTART:20241027T010000
END:STANDARD
BEGIN:DAYLIGHT
TZOFFSETFROM:+0100
TZOFFSETTO:+0200
TZNAME:CEST
DTSTART:20250330T010000
END:DAYLIGHT
BEGIN:STANDARD
TZOFFSETFROM:+0200
TZOFFSETTO:+0100
TZNAME:CET
DTSTART:20251026T010000
END:STANDARD
BEGIN:DAYLIGHT
TZOFFSETFROM:+0100
TZOFFSETTO:+0200
TZNAME:CEST
DTSTART:20260329T010000
END:DAYLIGHT
BEGIN:STANDARD
TZOFFSETFROM:+0200
TZOFFSETTO:+0100
TZNAME:CET
DTSTART:20261025T010000
END:STANDARD
END:VTIMEZONE
BEGIN:VEVENT
DTSTART;TZID=Europe/Berlin:20250723T183000
DTEND;TZID=Europe/Berlin:20250723T194500
DTSTAMP:20260422T051320
CREATED:20250710T061702Z
LAST-MODIFIED:20260323T083945Z
UID:10012833-1753295400-1753299900@www.fithit.at
SUMMARY:Yoga
DESCRIPTION:Dehnung und Stärkung der Körpermuskulatur\, Steigerung der Konzentration und Reduktion von Stress – deine Fitnesseinheit für Körper und Geist.
URL:https://www.fithit.at/kurs/yoga-2/2025-07-23/
LOCATION:Radstadt
CATEGORIES:Gesundheit
ATTACH;FMTTYPE=image/jpeg:https://www.fithit.at/wp-content/uploads/./yoga-fitnesskurs-radstadt-1.jpg
END:VEVENT
BEGIN:VEVENT
DTSTART;TZID=Europe/Berlin:20250723T080000
DTEND;TZID=Europe/Berlin:20250723T090000
DTSTAMP:20260422T051320
CREATED:20230925T074727Z
LAST-MODIFIED:20251222T095717Z
UID:10010119-1753257600-1753261200@www.fithit.at
SUMMARY:Gesunder Rücken/Pilates
DESCRIPTION:Spezielle Kräftigung der Tiefenmuskulatur des Rückens – ideal gegen Rückenschmerzen und Nackenverspannungen\, zur Steigerung der Körperwahrnehmung und Haltungsverbesserung.
URL:https://www.fithit.at/kurs/gesunder-ruecken-pilates-2-2/2025-07-23/
LOCATION:Radstadt
CATEGORIES:Gesundheit
ATTACH;FMTTYPE=image/jpeg:https://www.fithit.at/wp-content/uploads/./yoga-fitnesskurs-radstadt-1.jpg
END:VEVENT
BEGIN:VEVENT
DTSTART;TZID=Europe/Berlin:20250722T183000
DTEND;TZID=Europe/Berlin:20250722T193000
DTSTAMP:20260422T051320
CREATED:20230517T132133Z
LAST-MODIFIED:20260105T191456Z
UID:10006398-1753209000-1753212600@www.fithit.at
SUMMARY:Langhantel-Training
DESCRIPTION:Intensiv & abwechslungsreich für den gezielten Muskelaufbau.
URL:https://www.fithit.at/kurs/langhantel-training/2025-07-22/
LOCATION:Radstadt
CATEGORIES:Kraft
ATTACH;FMTTYPE=image/jpeg:https://www.fithit.at/wp-content/uploads/./langhanteltraining-fitnesskurs-radstadt-1.jpg
END:VEVENT
BEGIN:VEVENT
DTSTART;TZID=Europe/Berlin:20250721T183000
DTEND;TZID=Europe/Berlin:20250721T193000
DTSTAMP:20260422T051320
CREATED:20240110T160547Z
LAST-MODIFIED:20251206T155857Z
UID:10009730-1753122600-1753126200@www.fithit.at
SUMMARY:Functional Training
DESCRIPTION:Das Ganzkörper-Workout mit freien Übungen für eine gestärkte Oberflächen- und Tiefenmuskulatur.
URL:https://www.fithit.at/kurs/functional-training-3-2-2/2025-07-21/
LOCATION:Radstadt
CATEGORIES:Kraft
ATTACH;FMTTYPE=image/jpeg:https://www.fithit.at/wp-content/uploads/./functional-training-fitnesskurs-radstadt-1.jpg
END:VEVENT
BEGIN:VEVENT
DTSTART;TZID=Europe/Berlin:20250721T080000
DTEND;TZID=Europe/Berlin:20250721T093000
DTSTAMP:20260422T051320
CREATED:20250226T100915Z
LAST-MODIFIED:20260112T085440Z
UID:10012139-1753084800-1753090200@www.fithit.at
SUMMARY:Gesunder Rücken
DESCRIPTION:Spezielle Kräftigung der Tiefenmuskulatur des Rückens – ideal gegen Rückenschmerzen und Nackenverspannungen\, zur Steigerung der Körperwahrnehmung und Haltungsverbesserung. \n90 Minuten Kurs
URL:https://www.fithit.at/kurs/gesunder-ruecken-pilates-2-3/2025-07-21/
LOCATION:Radstadt
CATEGORIES:Gesundheit
ATTACH;FMTTYPE=image/jpeg:https://www.fithit.at/wp-content/uploads/DSC9506.jpg
END:VEVENT
BEGIN:VEVENT
DTSTART;TZID=Europe/Berlin:20250718T170000
DTEND;TZID=Europe/Berlin:20250718T181500
DTSTAMP:20260422T051320
CREATED:20250226T100727Z
LAST-MODIFIED:20260223T090017Z
UID:10013267-1752858000-1752862500@www.fithit.at
SUMMARY:Indoor Cycling
DESCRIPTION:Für alle Fahrrad Freunde und cooler Musik \nDas gelenkschonende Ganzkörpertraining zur Verbesserung der Ausdauer\, Kraft\, Koordination und Fettverbrennung.
URL:https://www.fithit.at/kurs/indoor-cycling-beginner-2-3/2025-07-18/
LOCATION:Radstadt
CATEGORIES:Ausdauer
ATTACH;FMTTYPE=image/jpeg:https://www.fithit.at/wp-content/uploads/./cycling-beginner-fitnesskurs-radstadt-1.jpg
END:VEVENT
BEGIN:VEVENT
DTSTART;TZID=Europe/Berlin:20250718T080000
DTEND;TZID=Europe/Berlin:20250718T090000
DTSTAMP:20260422T051320
CREATED:20230718T081347Z
LAST-MODIFIED:20251222T100024Z
UID:10012516-1752825600-1752829200@www.fithit.at
SUMMARY:Kraft & Koordination Training
DESCRIPTION:Das Ganzkörper-Workout: leichtes Kraft und Koordination Training für einen gesunden und kräftigen Körper.
URL:https://www.fithit.at/kurs/krafttraining-2/2025-07-18/
LOCATION:Radstadt
CATEGORIES:Kraft
ATTACH;FMTTYPE=image/jpeg:https://www.fithit.at/wp-content/uploads/./krafttraining-fitnesskurs-radstadt-1.jpg
END:VEVENT
BEGIN:VEVENT
DTSTART;TZID=Europe/Berlin:20250717T183000
DTEND;TZID=Europe/Berlin:20250717T193000
DTSTAMP:20260422T051320
CREATED:20230517T131444Z
LAST-MODIFIED:20251222T095918Z
UID:10005612-1752777000-1752780600@www.fithit.at
SUMMARY:Intensive Bodywork
DESCRIPTION:Sehr intensives Training im eigenen Rhythmus und Tempo\, daher für jede Altersgruppe und auch Einsteiger/innen geeignet.
URL:https://www.fithit.at/kurs/intensive-bodywork/2025-07-17/
LOCATION:Radstadt
CATEGORIES:Kraft
ATTACH;FMTTYPE=image/jpeg:https://www.fithit.at/wp-content/uploads/./intense-bodywork-fitnesskurs-radstadt-1.jpg
END:VEVENT
BEGIN:VEVENT
DTSTART;TZID=Europe/Berlin:20250716T080000
DTEND;TZID=Europe/Berlin:20250716T090000
DTSTAMP:20260422T051320
CREATED:20230925T074727Z
LAST-MODIFIED:20251222T095717Z
UID:10010118-1752652800-1752656400@www.fithit.at
SUMMARY:Gesunder Rücken/Pilates
DESCRIPTION:Spezielle Kräftigung der Tiefenmuskulatur des Rückens – ideal gegen Rückenschmerzen und Nackenverspannungen\, zur Steigerung der Körperwahrnehmung und Haltungsverbesserung.
URL:https://www.fithit.at/kurs/gesunder-ruecken-pilates-2-2/2025-07-16/
LOCATION:Radstadt
CATEGORIES:Gesundheit
ATTACH;FMTTYPE=image/jpeg:https://www.fithit.at/wp-content/uploads/./yoga-fitnesskurs-radstadt-1.jpg
END:VEVENT
BEGIN:VEVENT
DTSTART;TZID=Europe/Berlin:20250715T183000
DTEND;TZID=Europe/Berlin:20250715T193000
DTSTAMP:20260422T051320
CREATED:20230517T132133Z
LAST-MODIFIED:20260105T191456Z
UID:10006397-1752604200-1752607800@www.fithit.at
SUMMARY:Langhantel-Training
DESCRIPTION:Intensiv & abwechslungsreich für den gezielten Muskelaufbau.
URL:https://www.fithit.at/kurs/langhantel-training/2025-07-15/
LOCATION:Radstadt
CATEGORIES:Kraft
ATTACH;FMTTYPE=image/jpeg:https://www.fithit.at/wp-content/uploads/./langhanteltraining-fitnesskurs-radstadt-1.jpg
END:VEVENT
BEGIN:VEVENT
DTSTART;TZID=Europe/Berlin:20250714T183000
DTEND;TZID=Europe/Berlin:20250714T193000
DTSTAMP:20260422T051320
CREATED:20240110T160547Z
LAST-MODIFIED:20251206T155857Z
UID:10009729-1752517800-1752521400@www.fithit.at
SUMMARY:Functional Training
DESCRIPTION:Das Ganzkörper-Workout mit freien Übungen für eine gestärkte Oberflächen- und Tiefenmuskulatur.
URL:https://www.fithit.at/kurs/functional-training-3-2-2/2025-07-14/
LOCATION:Radstadt
CATEGORIES:Kraft
ATTACH;FMTTYPE=image/jpeg:https://www.fithit.at/wp-content/uploads/./functional-training-fitnesskurs-radstadt-1.jpg
END:VEVENT
BEGIN:VEVENT
DTSTART;TZID=Europe/Berlin:20250714T080000
DTEND;TZID=Europe/Berlin:20250714T093000
DTSTAMP:20260422T051320
CREATED:20250226T100915Z
LAST-MODIFIED:20260112T085440Z
UID:10012138-1752480000-1752485400@www.fithit.at
SUMMARY:Gesunder Rücken
DESCRIPTION:Spezielle Kräftigung der Tiefenmuskulatur des Rückens – ideal gegen Rückenschmerzen und Nackenverspannungen\, zur Steigerung der Körperwahrnehmung und Haltungsverbesserung. \n90 Minuten Kurs
URL:https://www.fithit.at/kurs/gesunder-ruecken-pilates-2-3/2025-07-14/
LOCATION:Radstadt
CATEGORIES:Gesundheit
ATTACH;FMTTYPE=image/jpeg:https://www.fithit.at/wp-content/uploads/DSC9506.jpg
END:VEVENT
BEGIN:VEVENT
DTSTART;TZID=Europe/Berlin:20250711T170000
DTEND;TZID=Europe/Berlin:20250711T181500
DTSTAMP:20260422T051320
CREATED:20250226T100727Z
LAST-MODIFIED:20260223T090017Z
UID:10013266-1752253200-1752257700@www.fithit.at
SUMMARY:Indoor Cycling
DESCRIPTION:Für alle Fahrrad Freunde und cooler Musik \nDas gelenkschonende Ganzkörpertraining zur Verbesserung der Ausdauer\, Kraft\, Koordination und Fettverbrennung.
URL:https://www.fithit.at/kurs/indoor-cycling-beginner-2-3/2025-07-11/
LOCATION:Radstadt
CATEGORIES:Ausdauer
ATTACH;FMTTYPE=image/jpeg:https://www.fithit.at/wp-content/uploads/./cycling-beginner-fitnesskurs-radstadt-1.jpg
END:VEVENT
BEGIN:VEVENT
DTSTART;TZID=Europe/Berlin:20250711T080000
DTEND;TZID=Europe/Berlin:20250711T090000
DTSTAMP:20260422T051320
CREATED:20230718T081347Z
LAST-MODIFIED:20251222T100024Z
UID:10012515-1752220800-1752224400@www.fithit.at
SUMMARY:Kraft & Koordination Training
DESCRIPTION:Das Ganzkörper-Workout: leichtes Kraft und Koordination Training für einen gesunden und kräftigen Körper.
URL:https://www.fithit.at/kurs/krafttraining-2/2025-07-11/
LOCATION:Radstadt
CATEGORIES:Kraft
ATTACH;FMTTYPE=image/jpeg:https://www.fithit.at/wp-content/uploads/./krafttraining-fitnesskurs-radstadt-1.jpg
END:VEVENT
BEGIN:VEVENT
DTSTART;TZID=Europe/Berlin:20250710T183000
DTEND;TZID=Europe/Berlin:20250710T193000
DTSTAMP:20260422T051320
CREATED:20230517T131444Z
LAST-MODIFIED:20251222T095918Z
UID:10005611-1752172200-1752175800@www.fithit.at
SUMMARY:Intensive Bodywork
DESCRIPTION:Sehr intensives Training im eigenen Rhythmus und Tempo\, daher für jede Altersgruppe und auch Einsteiger/innen geeignet.
URL:https://www.fithit.at/kurs/intensive-bodywork/2025-07-10/
LOCATION:Radstadt
CATEGORIES:Kraft
ATTACH;FMTTYPE=image/jpeg:https://www.fithit.at/wp-content/uploads/./intense-bodywork-fitnesskurs-radstadt-1.jpg
END:VEVENT
BEGIN:VEVENT
DTSTART;TZID=Europe/Berlin:20250709T080000
DTEND;TZID=Europe/Berlin:20250709T090000
DTSTAMP:20260422T051320
CREATED:20230925T074727Z
LAST-MODIFIED:20251222T095717Z
UID:10010117-1752048000-1752051600@www.fithit.at
SUMMARY:Gesunder Rücken/Pilates
DESCRIPTION:Spezielle Kräftigung der Tiefenmuskulatur des Rückens – ideal gegen Rückenschmerzen und Nackenverspannungen\, zur Steigerung der Körperwahrnehmung und Haltungsverbesserung.
URL:https://www.fithit.at/kurs/gesunder-ruecken-pilates-2-2/2025-07-09/
LOCATION:Radstadt
CATEGORIES:Gesundheit
ATTACH;FMTTYPE=image/jpeg:https://www.fithit.at/wp-content/uploads/./yoga-fitnesskurs-radstadt-1.jpg
END:VEVENT
BEGIN:VEVENT
DTSTART;TZID=Europe/Berlin:20250708T183000
DTEND;TZID=Europe/Berlin:20250708T193000
DTSTAMP:20260422T051320
CREATED:20230517T132133Z
LAST-MODIFIED:20260105T191456Z
UID:10006396-1751999400-1752003000@www.fithit.at
SUMMARY:Langhantel-Training
DESCRIPTION:Intensiv & abwechslungsreich für den gezielten Muskelaufbau.
URL:https://www.fithit.at/kurs/langhantel-training/2025-07-08/
LOCATION:Radstadt
CATEGORIES:Kraft
ATTACH;FMTTYPE=image/jpeg:https://www.fithit.at/wp-content/uploads/./langhanteltraining-fitnesskurs-radstadt-1.jpg
END:VEVENT
BEGIN:VEVENT
DTSTART;TZID=Europe/Berlin:20250707T183000
DTEND;TZID=Europe/Berlin:20250707T193000
DTSTAMP:20260422T051320
CREATED:20240110T160547Z
LAST-MODIFIED:20251206T155857Z
UID:10009728-1751913000-1751916600@www.fithit.at
SUMMARY:Functional Training
DESCRIPTION:Das Ganzkörper-Workout mit freien Übungen für eine gestärkte Oberflächen- und Tiefenmuskulatur.
URL:https://www.fithit.at/kurs/functional-training-3-2-2/2025-07-07/
LOCATION:Radstadt
CATEGORIES:Kraft
ATTACH;FMTTYPE=image/jpeg:https://www.fithit.at/wp-content/uploads/./functional-training-fitnesskurs-radstadt-1.jpg
END:VEVENT
BEGIN:VEVENT
DTSTART;TZID=Europe/Berlin:20250707T080000
DTEND;TZID=Europe/Berlin:20250707T093000
DTSTAMP:20260422T051320
CREATED:20250226T100915Z
LAST-MODIFIED:20260112T085440Z
UID:10012137-1751875200-1751880600@www.fithit.at
SUMMARY:Gesunder Rücken
DESCRIPTION:Spezielle Kräftigung der Tiefenmuskulatur des Rückens – ideal gegen Rückenschmerzen und Nackenverspannungen\, zur Steigerung der Körperwahrnehmung und Haltungsverbesserung. \n90 Minuten Kurs
URL:https://www.fithit.at/kurs/gesunder-ruecken-pilates-2-3/2025-07-07/
LOCATION:Radstadt
CATEGORIES:Gesundheit
ATTACH;FMTTYPE=image/jpeg:https://www.fithit.at/wp-content/uploads/DSC9506.jpg
END:VEVENT
BEGIN:VEVENT
DTSTART;TZID=Europe/Berlin:20250704T170000
DTEND;TZID=Europe/Berlin:20250704T181500
DTSTAMP:20260422T051320
CREATED:20250226T100727Z
LAST-MODIFIED:20260223T090017Z
UID:10013265-1751648400-1751652900@www.fithit.at
SUMMARY:Indoor Cycling
DESCRIPTION:Für alle Fahrrad Freunde und cooler Musik \nDas gelenkschonende Ganzkörpertraining zur Verbesserung der Ausdauer\, Kraft\, Koordination und Fettverbrennung.
URL:https://www.fithit.at/kurs/indoor-cycling-beginner-2-3/2025-07-04/
LOCATION:Radstadt
CATEGORIES:Ausdauer
ATTACH;FMTTYPE=image/jpeg:https://www.fithit.at/wp-content/uploads/./cycling-beginner-fitnesskurs-radstadt-1.jpg
END:VEVENT
BEGIN:VEVENT
DTSTART;TZID=Europe/Berlin:20250704T080000
DTEND;TZID=Europe/Berlin:20250704T090000
DTSTAMP:20260422T051320
CREATED:20230718T081347Z
LAST-MODIFIED:20251222T100024Z
UID:10012514-1751616000-1751619600@www.fithit.at
SUMMARY:Kraft & Koordination Training
DESCRIPTION:Das Ganzkörper-Workout: leichtes Kraft und Koordination Training für einen gesunden und kräftigen Körper.
URL:https://www.fithit.at/kurs/krafttraining-2/2025-07-04/
LOCATION:Radstadt
CATEGORIES:Kraft
ATTACH;FMTTYPE=image/jpeg:https://www.fithit.at/wp-content/uploads/./krafttraining-fitnesskurs-radstadt-1.jpg
END:VEVENT
BEGIN:VEVENT
DTSTART;TZID=Europe/Berlin:20250703T183000
DTEND;TZID=Europe/Berlin:20250703T193000
DTSTAMP:20260422T051320
CREATED:20230517T131444Z
LAST-MODIFIED:20251222T095918Z
UID:10005610-1751567400-1751571000@www.fithit.at
SUMMARY:Intensive Bodywork
DESCRIPTION:Sehr intensives Training im eigenen Rhythmus und Tempo\, daher für jede Altersgruppe und auch Einsteiger/innen geeignet.
URL:https://www.fithit.at/kurs/intensive-bodywork/2025-07-03/
LOCATION:Radstadt
CATEGORIES:Kraft
ATTACH;FMTTYPE=image/jpeg:https://www.fithit.at/wp-content/uploads/./intense-bodywork-fitnesskurs-radstadt-1.jpg
END:VEVENT
BEGIN:VEVENT
DTSTART;TZID=Europe/Berlin:20250702T080000
DTEND;TZID=Europe/Berlin:20250702T090000
DTSTAMP:20260422T051320
CREATED:20230925T074727Z
LAST-MODIFIED:20251222T095717Z
UID:10010116-1751443200-1751446800@www.fithit.at
SUMMARY:Gesunder Rücken/Pilates
DESCRIPTION:Spezielle Kräftigung der Tiefenmuskulatur des Rückens – ideal gegen Rückenschmerzen und Nackenverspannungen\, zur Steigerung der Körperwahrnehmung und Haltungsverbesserung.
URL:https://www.fithit.at/kurs/gesunder-ruecken-pilates-2-2/2025-07-02/
LOCATION:Radstadt
CATEGORIES:Gesundheit
ATTACH;FMTTYPE=image/jpeg:https://www.fithit.at/wp-content/uploads/./yoga-fitnesskurs-radstadt-1.jpg
END:VEVENT
BEGIN:VEVENT
DTSTART;TZID=Europe/Berlin:20250701T183000
DTEND;TZID=Europe/Berlin:20250701T193000
DTSTAMP:20260422T051320
CREATED:20230517T132133Z
LAST-MODIFIED:20260105T191456Z
UID:10006395-1751394600-1751398200@www.fithit.at
SUMMARY:Langhantel-Training
DESCRIPTION:Intensiv & abwechslungsreich für den gezielten Muskelaufbau.
URL:https://www.fithit.at/kurs/langhantel-training/2025-07-01/
LOCATION:Radstadt
CATEGORIES:Kraft
ATTACH;FMTTYPE=image/jpeg:https://www.fithit.at/wp-content/uploads/./langhanteltraining-fitnesskurs-radstadt-1.jpg
END:VEVENT
BEGIN:VEVENT
DTSTART;TZID=Europe/Berlin:20250630T183000
DTEND;TZID=Europe/Berlin:20250630T193000
DTSTAMP:20260422T051320
CREATED:20240110T160547Z
LAST-MODIFIED:20251206T155857Z
UID:10009727-1751308200-1751311800@www.fithit.at
SUMMARY:Functional Training
DESCRIPTION:Das Ganzkörper-Workout mit freien Übungen für eine gestärkte Oberflächen- und Tiefenmuskulatur.
URL:https://www.fithit.at/kurs/functional-training-3-2-2/2025-06-30/
LOCATION:Radstadt
CATEGORIES:Kraft
ATTACH;FMTTYPE=image/jpeg:https://www.fithit.at/wp-content/uploads/./functional-training-fitnesskurs-radstadt-1.jpg
END:VEVENT
BEGIN:VEVENT
DTSTART;TZID=Europe/Berlin:20250630T080000
DTEND;TZID=Europe/Berlin:20250630T093000
DTSTAMP:20260422T051320
CREATED:20250226T100915Z
LAST-MODIFIED:20260112T085440Z
UID:10012136-1751270400-1751275800@www.fithit.at
SUMMARY:Gesunder Rücken
DESCRIPTION:Spezielle Kräftigung der Tiefenmuskulatur des Rückens – ideal gegen Rückenschmerzen und Nackenverspannungen\, zur Steigerung der Körperwahrnehmung und Haltungsverbesserung. \n90 Minuten Kurs
URL:https://www.fithit.at/kurs/gesunder-ruecken-pilates-2-3/2025-06-30/
LOCATION:Radstadt
CATEGORIES:Gesundheit
ATTACH;FMTTYPE=image/jpeg:https://www.fithit.at/wp-content/uploads/DSC9506.jpg
END:VEVENT
BEGIN:VEVENT
DTSTART;TZID=Europe/Berlin:20250627T170000
DTEND;TZID=Europe/Berlin:20250627T181500
DTSTAMP:20260422T051320
CREATED:20250226T100727Z
LAST-MODIFIED:20260223T090017Z
UID:10013264-1751043600-1751048100@www.fithit.at
SUMMARY:Indoor Cycling
DESCRIPTION:Für alle Fahrrad Freunde und cooler Musik \nDas gelenkschonende Ganzkörpertraining zur Verbesserung der Ausdauer\, Kraft\, Koordination und Fettverbrennung.
URL:https://www.fithit.at/kurs/indoor-cycling-beginner-2-3/2025-06-27/
LOCATION:Radstadt
CATEGORIES:Ausdauer
ATTACH;FMTTYPE=image/jpeg:https://www.fithit.at/wp-content/uploads/./cycling-beginner-fitnesskurs-radstadt-1.jpg
END:VEVENT
BEGIN:VEVENT
DTSTART;TZID=Europe/Berlin:20250627T080000
DTEND;TZID=Europe/Berlin:20250627T090000
DTSTAMP:20260422T051320
CREATED:20230718T081347Z
LAST-MODIFIED:20251222T100024Z
UID:10012513-1751011200-1751014800@www.fithit.at
SUMMARY:Kraft & Koordination Training
DESCRIPTION:Das Ganzkörper-Workout: leichtes Kraft und Koordination Training für einen gesunden und kräftigen Körper.
URL:https://www.fithit.at/kurs/krafttraining-2/2025-06-27/
LOCATION:Radstadt
CATEGORIES:Kraft
ATTACH;FMTTYPE=image/jpeg:https://www.fithit.at/wp-content/uploads/./krafttraining-fitnesskurs-radstadt-1.jpg
END:VEVENT
BEGIN:VEVENT
DTSTART;TZID=Europe/Berlin:20250626T183000
DTEND;TZID=Europe/Berlin:20250626T193000
DTSTAMP:20260422T051320
CREATED:20230517T131444Z
LAST-MODIFIED:20251222T095918Z
UID:10005609-1750962600-1750966200@www.fithit.at
SUMMARY:Intensive Bodywork
DESCRIPTION:Sehr intensives Training im eigenen Rhythmus und Tempo\, daher für jede Altersgruppe und auch Einsteiger/innen geeignet.
URL:https://www.fithit.at/kurs/intensive-bodywork/2025-06-26/
LOCATION:Radstadt
CATEGORIES:Kraft
ATTACH;FMTTYPE=image/jpeg:https://www.fithit.at/wp-content/uploads/./intense-bodywork-fitnesskurs-radstadt-1.jpg
END:VEVENT
BEGIN:VEVENT
DTSTART;TZID=Europe/Berlin:20250625T080000
DTEND;TZID=Europe/Berlin:20250625T090000
DTSTAMP:20260422T051320
CREATED:20230925T074727Z
LAST-MODIFIED:20251222T095717Z
UID:10010115-1750838400-1750842000@www.fithit.at
SUMMARY:Gesunder Rücken/Pilates
DESCRIPTION:Spezielle Kräftigung der Tiefenmuskulatur des Rückens – ideal gegen Rückenschmerzen und Nackenverspannungen\, zur Steigerung der Körperwahrnehmung und Haltungsverbesserung.
URL:https://www.fithit.at/kurs/gesunder-ruecken-pilates-2-2/2025-06-25/
LOCATION:Radstadt
CATEGORIES:Gesundheit
ATTACH;FMTTYPE=image/jpeg:https://www.fithit.at/wp-content/uploads/./yoga-fitnesskurs-radstadt-1.jpg
END:VEVENT
END:VCALENDAR