BEGIN:VCALENDAR
VERSION:2.0
PRODID:-//FITHIT-Fitnessstudio im Ennspongau - ECPv6.15.15//NONSGML v1.0//EN
CALSCALE:GREGORIAN
METHOD:PUBLISH
X-WR-CALNAME:FITHIT-Fitnessstudio im Ennspongau
X-ORIGINAL-URL:https://www.fithit.at
X-WR-CALDESC:Veranstaltungen für FITHIT-Fitnessstudio im Ennspongau
REFRESH-INTERVAL;VALUE=DURATION:PT1H
X-Robots-Tag:noindex
X-PUBLISHED-TTL:PT1H
BEGIN:VTIMEZONE
TZID:Europe/Berlin
BEGIN:DAYLIGHT
TZOFFSETFROM:+0100
TZOFFSETTO:+0200
TZNAME:CEST
DTSTART:20260329T010000
END:DAYLIGHT
BEGIN:STANDARD
TZOFFSETFROM:+0200
TZOFFSETTO:+0100
TZNAME:CET
DTSTART:20261025T010000
END:STANDARD
BEGIN:DAYLIGHT
TZOFFSETFROM:+0100
TZOFFSETTO:+0200
TZNAME:CEST
DTSTART:20270328T010000
END:DAYLIGHT
BEGIN:STANDARD
TZOFFSETFROM:+0200
TZOFFSETTO:+0100
TZNAME:CET
DTSTART:20271031T010000
END:STANDARD
BEGIN:DAYLIGHT
TZOFFSETFROM:+0100
TZOFFSETTO:+0200
TZNAME:CEST
DTSTART:20280326T010000
END:DAYLIGHT
BEGIN:STANDARD
TZOFFSETFROM:+0200
TZOFFSETTO:+0100
TZNAME:CET
DTSTART:20281029T010000
END:STANDARD
END:VTIMEZONE
BEGIN:VEVENT
DTSTART;TZID=Europe/Berlin:20270208T183000
DTEND;TZID=Europe/Berlin:20270208T193000
DTSTAMP:20260420T143538
CREATED:20240110T160547Z
LAST-MODIFIED:20251206T155857Z
UID:10009811-1802111400-1802115000@www.fithit.at
SUMMARY:Functional Training
DESCRIPTION:Das Ganzkörper-Workout mit freien Übungen für eine gestärkte Oberflächen- und Tiefenmuskulatur.
URL:https://www.fithit.at/kurs/functional-training-3-2-2/2027-02-08/
LOCATION:Radstadt
CATEGORIES:Kraft
ATTACH;FMTTYPE=image/jpeg:https://www.fithit.at/wp-content/uploads/./functional-training-fitnesskurs-radstadt-1.jpg
END:VEVENT
BEGIN:VEVENT
DTSTART;TZID=Europe/Berlin:20270209T183000
DTEND;TZID=Europe/Berlin:20270209T193000
DTSTAMP:20260420T143538
CREATED:20230517T132133Z
LAST-MODIFIED:20260105T191456Z
UID:10006479-1802197800-1802201400@www.fithit.at
SUMMARY:Langhantel-Training
DESCRIPTION:Intensiv & abwechslungsreich für den gezielten Muskelaufbau.
URL:https://www.fithit.at/kurs/langhantel-training/2027-02-09/
LOCATION:Radstadt
CATEGORIES:Kraft
ATTACH;FMTTYPE=image/jpeg:https://www.fithit.at/wp-content/uploads/./langhanteltraining-fitnesskurs-radstadt-1.jpg
END:VEVENT
BEGIN:VEVENT
DTSTART;TZID=Europe/Berlin:20270210T080000
DTEND;TZID=Europe/Berlin:20270210T090000
DTSTAMP:20260420T143538
CREATED:20230925T074727Z
LAST-MODIFIED:20251222T095717Z
UID:10010200-1802246400-1802250000@www.fithit.at
SUMMARY:Gesunder Rücken/Pilates
DESCRIPTION:Spezielle Kräftigung der Tiefenmuskulatur des Rückens – ideal gegen Rückenschmerzen und Nackenverspannungen\, zur Steigerung der Körperwahrnehmung und Haltungsverbesserung.
URL:https://www.fithit.at/kurs/gesunder-ruecken-pilates-2-2/2027-02-10/
LOCATION:Radstadt
CATEGORIES:Gesundheit
ATTACH;FMTTYPE=image/jpeg:https://www.fithit.at/wp-content/uploads/./yoga-fitnesskurs-radstadt-1.jpg
END:VEVENT
BEGIN:VEVENT
DTSTART;TZID=Europe/Berlin:20270210T183000
DTEND;TZID=Europe/Berlin:20270210T194500
DTSTAMP:20260420T143538
CREATED:20250710T061702Z
LAST-MODIFIED:20260323T083945Z
UID:10012912-1802284200-1802288700@www.fithit.at
SUMMARY:Yoga
DESCRIPTION:Dehnung und Stärkung der Körpermuskulatur\, Steigerung der Konzentration und Reduktion von Stress – deine Fitnesseinheit für Körper und Geist.
URL:https://www.fithit.at/kurs/yoga-2/2027-02-10/
LOCATION:Radstadt
CATEGORIES:Gesundheit
ATTACH;FMTTYPE=image/jpeg:https://www.fithit.at/wp-content/uploads/./yoga-fitnesskurs-radstadt-1.jpg
END:VEVENT
BEGIN:VEVENT
DTSTART;TZID=Europe/Berlin:20270211T183000
DTEND;TZID=Europe/Berlin:20270211T193000
DTSTAMP:20260420T143538
CREATED:20230517T131444Z
LAST-MODIFIED:20251222T095918Z
UID:10005694-1802370600-1802374200@www.fithit.at
SUMMARY:Intensive Bodywork
DESCRIPTION:Sehr intensives Training im eigenen Rhythmus und Tempo\, daher für jede Altersgruppe und auch Einsteiger/innen geeignet.
URL:https://www.fithit.at/kurs/intensive-bodywork/2027-02-11/
LOCATION:Radstadt
CATEGORIES:Kraft
ATTACH;FMTTYPE=image/jpeg:https://www.fithit.at/wp-content/uploads/./intense-bodywork-fitnesskurs-radstadt-1.jpg
END:VEVENT
BEGIN:VEVENT
DTSTART;TZID=Europe/Berlin:20270212T080000
DTEND;TZID=Europe/Berlin:20270212T090000
DTSTAMP:20260420T143538
CREATED:20230718T081347Z
LAST-MODIFIED:20251222T100024Z
UID:10012597-1802419200-1802422800@www.fithit.at
SUMMARY:Kraft & Koordination Training
DESCRIPTION:Das Ganzkörper-Workout: leichtes Kraft und Koordination Training für einen gesunden und kräftigen Körper.
URL:https://www.fithit.at/kurs/krafttraining-2/2027-02-12/
LOCATION:Radstadt
CATEGORIES:Kraft
ATTACH;FMTTYPE=image/jpeg:https://www.fithit.at/wp-content/uploads/./krafttraining-fitnesskurs-radstadt-1.jpg
END:VEVENT
BEGIN:VEVENT
DTSTART;TZID=Europe/Berlin:20270212T170000
DTEND;TZID=Europe/Berlin:20270212T181500
DTSTAMP:20260420T143538
CREATED:20250226T100727Z
LAST-MODIFIED:20260223T090017Z
UID:10013349-1802451600-1802456100@www.fithit.at
SUMMARY:Indoor Cycling
DESCRIPTION:Für alle Fahrrad Freunde und cooler Musik \nDas gelenkschonende Ganzkörpertraining zur Verbesserung der Ausdauer\, Kraft\, Koordination und Fettverbrennung.
URL:https://www.fithit.at/kurs/indoor-cycling-beginner-2-3/2027-02-12/
LOCATION:Radstadt
CATEGORIES:Ausdauer
ATTACH;FMTTYPE=image/jpeg:https://www.fithit.at/wp-content/uploads/./cycling-beginner-fitnesskurs-radstadt-1.jpg
END:VEVENT
BEGIN:VEVENT
DTSTART;TZID=Europe/Berlin:20270215T080000
DTEND;TZID=Europe/Berlin:20270215T093000
DTSTAMP:20260420T143538
CREATED:20250226T100915Z
LAST-MODIFIED:20260112T085440Z
UID:10012221-1802678400-1802683800@www.fithit.at
SUMMARY:Gesunder Rücken
DESCRIPTION:Spezielle Kräftigung der Tiefenmuskulatur des Rückens – ideal gegen Rückenschmerzen und Nackenverspannungen\, zur Steigerung der Körperwahrnehmung und Haltungsverbesserung. \n90 Minuten Kurs
URL:https://www.fithit.at/kurs/gesunder-ruecken-pilates-2-3/2027-02-15/
LOCATION:Radstadt
CATEGORIES:Gesundheit
ATTACH;FMTTYPE=image/jpeg:https://www.fithit.at/wp-content/uploads/DSC9506.jpg
END:VEVENT
BEGIN:VEVENT
DTSTART;TZID=Europe/Berlin:20270215T183000
DTEND;TZID=Europe/Berlin:20270215T193000
DTSTAMP:20260420T143538
CREATED:20240110T160547Z
LAST-MODIFIED:20251206T155857Z
UID:10009812-1802716200-1802719800@www.fithit.at
SUMMARY:Functional Training
DESCRIPTION:Das Ganzkörper-Workout mit freien Übungen für eine gestärkte Oberflächen- und Tiefenmuskulatur.
URL:https://www.fithit.at/kurs/functional-training-3-2-2/2027-02-15/
LOCATION:Radstadt
CATEGORIES:Kraft
ATTACH;FMTTYPE=image/jpeg:https://www.fithit.at/wp-content/uploads/./functional-training-fitnesskurs-radstadt-1.jpg
END:VEVENT
BEGIN:VEVENT
DTSTART;TZID=Europe/Berlin:20270216T183000
DTEND;TZID=Europe/Berlin:20270216T193000
DTSTAMP:20260420T143538
CREATED:20230517T132133Z
LAST-MODIFIED:20260105T191456Z
UID:10006480-1802802600-1802806200@www.fithit.at
SUMMARY:Langhantel-Training
DESCRIPTION:Intensiv & abwechslungsreich für den gezielten Muskelaufbau.
URL:https://www.fithit.at/kurs/langhantel-training/2027-02-16/
LOCATION:Radstadt
CATEGORIES:Kraft
ATTACH;FMTTYPE=image/jpeg:https://www.fithit.at/wp-content/uploads/./langhanteltraining-fitnesskurs-radstadt-1.jpg
END:VEVENT
BEGIN:VEVENT
DTSTART;TZID=Europe/Berlin:20270217T080000
DTEND;TZID=Europe/Berlin:20270217T090000
DTSTAMP:20260420T143538
CREATED:20230925T074727Z
LAST-MODIFIED:20251222T095717Z
UID:10010201-1802851200-1802854800@www.fithit.at
SUMMARY:Gesunder Rücken/Pilates
DESCRIPTION:Spezielle Kräftigung der Tiefenmuskulatur des Rückens – ideal gegen Rückenschmerzen und Nackenverspannungen\, zur Steigerung der Körperwahrnehmung und Haltungsverbesserung.
URL:https://www.fithit.at/kurs/gesunder-ruecken-pilates-2-2/2027-02-17/
LOCATION:Radstadt
CATEGORIES:Gesundheit
ATTACH;FMTTYPE=image/jpeg:https://www.fithit.at/wp-content/uploads/./yoga-fitnesskurs-radstadt-1.jpg
END:VEVENT
BEGIN:VEVENT
DTSTART;TZID=Europe/Berlin:20270217T183000
DTEND;TZID=Europe/Berlin:20270217T194500
DTSTAMP:20260420T143538
CREATED:20250710T061702Z
LAST-MODIFIED:20260323T083945Z
UID:10012913-1802889000-1802893500@www.fithit.at
SUMMARY:Yoga
DESCRIPTION:Dehnung und Stärkung der Körpermuskulatur\, Steigerung der Konzentration und Reduktion von Stress – deine Fitnesseinheit für Körper und Geist.
URL:https://www.fithit.at/kurs/yoga-2/2027-02-17/
LOCATION:Radstadt
CATEGORIES:Gesundheit
ATTACH;FMTTYPE=image/jpeg:https://www.fithit.at/wp-content/uploads/./yoga-fitnesskurs-radstadt-1.jpg
END:VEVENT
BEGIN:VEVENT
DTSTART;TZID=Europe/Berlin:20270218T183000
DTEND;TZID=Europe/Berlin:20270218T193000
DTSTAMP:20260420T143538
CREATED:20230517T131444Z
LAST-MODIFIED:20251222T095918Z
UID:10005695-1802975400-1802979000@www.fithit.at
SUMMARY:Intensive Bodywork
DESCRIPTION:Sehr intensives Training im eigenen Rhythmus und Tempo\, daher für jede Altersgruppe und auch Einsteiger/innen geeignet.
URL:https://www.fithit.at/kurs/intensive-bodywork/2027-02-18/
LOCATION:Radstadt
CATEGORIES:Kraft
ATTACH;FMTTYPE=image/jpeg:https://www.fithit.at/wp-content/uploads/./intense-bodywork-fitnesskurs-radstadt-1.jpg
END:VEVENT
BEGIN:VEVENT
DTSTART;TZID=Europe/Berlin:20270219T080000
DTEND;TZID=Europe/Berlin:20270219T090000
DTSTAMP:20260420T143538
CREATED:20230718T081347Z
LAST-MODIFIED:20251222T100024Z
UID:10012598-1803024000-1803027600@www.fithit.at
SUMMARY:Kraft & Koordination Training
DESCRIPTION:Das Ganzkörper-Workout: leichtes Kraft und Koordination Training für einen gesunden und kräftigen Körper.
URL:https://www.fithit.at/kurs/krafttraining-2/2027-02-19/
LOCATION:Radstadt
CATEGORIES:Kraft
ATTACH;FMTTYPE=image/jpeg:https://www.fithit.at/wp-content/uploads/./krafttraining-fitnesskurs-radstadt-1.jpg
END:VEVENT
BEGIN:VEVENT
DTSTART;TZID=Europe/Berlin:20270219T170000
DTEND;TZID=Europe/Berlin:20270219T181500
DTSTAMP:20260420T143538
CREATED:20250226T100727Z
LAST-MODIFIED:20260223T090017Z
UID:10013350-1803056400-1803060900@www.fithit.at
SUMMARY:Indoor Cycling
DESCRIPTION:Für alle Fahrrad Freunde und cooler Musik \nDas gelenkschonende Ganzkörpertraining zur Verbesserung der Ausdauer\, Kraft\, Koordination und Fettverbrennung.
URL:https://www.fithit.at/kurs/indoor-cycling-beginner-2-3/2027-02-19/
LOCATION:Radstadt
CATEGORIES:Ausdauer
ATTACH;FMTTYPE=image/jpeg:https://www.fithit.at/wp-content/uploads/./cycling-beginner-fitnesskurs-radstadt-1.jpg
END:VEVENT
BEGIN:VEVENT
DTSTART;TZID=Europe/Berlin:20270222T080000
DTEND;TZID=Europe/Berlin:20270222T093000
DTSTAMP:20260420T143538
CREATED:20250226T100915Z
LAST-MODIFIED:20260112T085440Z
UID:10012222-1803283200-1803288600@www.fithit.at
SUMMARY:Gesunder Rücken
DESCRIPTION:Spezielle Kräftigung der Tiefenmuskulatur des Rückens – ideal gegen Rückenschmerzen und Nackenverspannungen\, zur Steigerung der Körperwahrnehmung und Haltungsverbesserung. \n90 Minuten Kurs
URL:https://www.fithit.at/kurs/gesunder-ruecken-pilates-2-3/2027-02-22/
LOCATION:Radstadt
CATEGORIES:Gesundheit
ATTACH;FMTTYPE=image/jpeg:https://www.fithit.at/wp-content/uploads/DSC9506.jpg
END:VEVENT
BEGIN:VEVENT
DTSTART;TZID=Europe/Berlin:20270222T183000
DTEND;TZID=Europe/Berlin:20270222T193000
DTSTAMP:20260420T143538
CREATED:20240110T160547Z
LAST-MODIFIED:20251206T155857Z
UID:10009813-1803321000-1803324600@www.fithit.at
SUMMARY:Functional Training
DESCRIPTION:Das Ganzkörper-Workout mit freien Übungen für eine gestärkte Oberflächen- und Tiefenmuskulatur.
URL:https://www.fithit.at/kurs/functional-training-3-2-2/2027-02-22/
LOCATION:Radstadt
CATEGORIES:Kraft
ATTACH;FMTTYPE=image/jpeg:https://www.fithit.at/wp-content/uploads/./functional-training-fitnesskurs-radstadt-1.jpg
END:VEVENT
BEGIN:VEVENT
DTSTART;TZID=Europe/Berlin:20270223T183000
DTEND;TZID=Europe/Berlin:20270223T193000
DTSTAMP:20260420T143538
CREATED:20230517T132133Z
LAST-MODIFIED:20260105T191456Z
UID:10006481-1803407400-1803411000@www.fithit.at
SUMMARY:Langhantel-Training
DESCRIPTION:Intensiv & abwechslungsreich für den gezielten Muskelaufbau.
URL:https://www.fithit.at/kurs/langhantel-training/2027-02-23/
LOCATION:Radstadt
CATEGORIES:Kraft
ATTACH;FMTTYPE=image/jpeg:https://www.fithit.at/wp-content/uploads/./langhanteltraining-fitnesskurs-radstadt-1.jpg
END:VEVENT
BEGIN:VEVENT
DTSTART;TZID=Europe/Berlin:20270224T080000
DTEND;TZID=Europe/Berlin:20270224T090000
DTSTAMP:20260420T143538
CREATED:20230925T074727Z
LAST-MODIFIED:20251222T095717Z
UID:10010202-1803456000-1803459600@www.fithit.at
SUMMARY:Gesunder Rücken/Pilates
DESCRIPTION:Spezielle Kräftigung der Tiefenmuskulatur des Rückens – ideal gegen Rückenschmerzen und Nackenverspannungen\, zur Steigerung der Körperwahrnehmung und Haltungsverbesserung.
URL:https://www.fithit.at/kurs/gesunder-ruecken-pilates-2-2/2027-02-24/
LOCATION:Radstadt
CATEGORIES:Gesundheit
ATTACH;FMTTYPE=image/jpeg:https://www.fithit.at/wp-content/uploads/./yoga-fitnesskurs-radstadt-1.jpg
END:VEVENT
BEGIN:VEVENT
DTSTART;TZID=Europe/Berlin:20270224T183000
DTEND;TZID=Europe/Berlin:20270224T194500
DTSTAMP:20260420T143538
CREATED:20250710T061702Z
LAST-MODIFIED:20260323T083945Z
UID:10012914-1803493800-1803498300@www.fithit.at
SUMMARY:Yoga
DESCRIPTION:Dehnung und Stärkung der Körpermuskulatur\, Steigerung der Konzentration und Reduktion von Stress – deine Fitnesseinheit für Körper und Geist.
URL:https://www.fithit.at/kurs/yoga-2/2027-02-24/
LOCATION:Radstadt
CATEGORIES:Gesundheit
ATTACH;FMTTYPE=image/jpeg:https://www.fithit.at/wp-content/uploads/./yoga-fitnesskurs-radstadt-1.jpg
END:VEVENT
BEGIN:VEVENT
DTSTART;TZID=Europe/Berlin:20270225T183000
DTEND;TZID=Europe/Berlin:20270225T193000
DTSTAMP:20260420T143538
CREATED:20230517T131444Z
LAST-MODIFIED:20251222T095918Z
UID:10005696-1803580200-1803583800@www.fithit.at
SUMMARY:Intensive Bodywork
DESCRIPTION:Sehr intensives Training im eigenen Rhythmus und Tempo\, daher für jede Altersgruppe und auch Einsteiger/innen geeignet.
URL:https://www.fithit.at/kurs/intensive-bodywork/2027-02-25/
LOCATION:Radstadt
CATEGORIES:Kraft
ATTACH;FMTTYPE=image/jpeg:https://www.fithit.at/wp-content/uploads/./intense-bodywork-fitnesskurs-radstadt-1.jpg
END:VEVENT
BEGIN:VEVENT
DTSTART;TZID=Europe/Berlin:20270226T080000
DTEND;TZID=Europe/Berlin:20270226T090000
DTSTAMP:20260420T143538
CREATED:20230718T081347Z
LAST-MODIFIED:20251222T100024Z
UID:10012599-1803628800-1803632400@www.fithit.at
SUMMARY:Kraft & Koordination Training
DESCRIPTION:Das Ganzkörper-Workout: leichtes Kraft und Koordination Training für einen gesunden und kräftigen Körper.
URL:https://www.fithit.at/kurs/krafttraining-2/2027-02-26/
LOCATION:Radstadt
CATEGORIES:Kraft
ATTACH;FMTTYPE=image/jpeg:https://www.fithit.at/wp-content/uploads/./krafttraining-fitnesskurs-radstadt-1.jpg
END:VEVENT
BEGIN:VEVENT
DTSTART;TZID=Europe/Berlin:20270226T170000
DTEND;TZID=Europe/Berlin:20270226T181500
DTSTAMP:20260420T143538
CREATED:20250226T100727Z
LAST-MODIFIED:20260223T090017Z
UID:10013351-1803661200-1803665700@www.fithit.at
SUMMARY:Indoor Cycling
DESCRIPTION:Für alle Fahrrad Freunde und cooler Musik \nDas gelenkschonende Ganzkörpertraining zur Verbesserung der Ausdauer\, Kraft\, Koordination und Fettverbrennung.
URL:https://www.fithit.at/kurs/indoor-cycling-beginner-2-3/2027-02-26/
LOCATION:Radstadt
CATEGORIES:Ausdauer
ATTACH;FMTTYPE=image/jpeg:https://www.fithit.at/wp-content/uploads/./cycling-beginner-fitnesskurs-radstadt-1.jpg
END:VEVENT
BEGIN:VEVENT
DTSTART;TZID=Europe/Berlin:20270301T080000
DTEND;TZID=Europe/Berlin:20270301T093000
DTSTAMP:20260420T143538
CREATED:20250226T100915Z
LAST-MODIFIED:20260112T085440Z
UID:10012223-1803888000-1803893400@www.fithit.at
SUMMARY:Gesunder Rücken
DESCRIPTION:Spezielle Kräftigung der Tiefenmuskulatur des Rückens – ideal gegen Rückenschmerzen und Nackenverspannungen\, zur Steigerung der Körperwahrnehmung und Haltungsverbesserung. \n90 Minuten Kurs
URL:https://www.fithit.at/kurs/gesunder-ruecken-pilates-2-3/2027-03-01/
LOCATION:Radstadt
CATEGORIES:Gesundheit
ATTACH;FMTTYPE=image/jpeg:https://www.fithit.at/wp-content/uploads/DSC9506.jpg
END:VEVENT
BEGIN:VEVENT
DTSTART;TZID=Europe/Berlin:20270301T183000
DTEND;TZID=Europe/Berlin:20270301T193000
DTSTAMP:20260420T143538
CREATED:20240110T160547Z
LAST-MODIFIED:20251206T155857Z
UID:10009814-1803925800-1803929400@www.fithit.at
SUMMARY:Functional Training
DESCRIPTION:Das Ganzkörper-Workout mit freien Übungen für eine gestärkte Oberflächen- und Tiefenmuskulatur.
URL:https://www.fithit.at/kurs/functional-training-3-2-2/2027-03-01/
LOCATION:Radstadt
CATEGORIES:Kraft
ATTACH;FMTTYPE=image/jpeg:https://www.fithit.at/wp-content/uploads/./functional-training-fitnesskurs-radstadt-1.jpg
END:VEVENT
BEGIN:VEVENT
DTSTART;TZID=Europe/Berlin:20270302T183000
DTEND;TZID=Europe/Berlin:20270302T193000
DTSTAMP:20260420T143538
CREATED:20230517T132133Z
LAST-MODIFIED:20260105T191456Z
UID:10006482-1804012200-1804015800@www.fithit.at
SUMMARY:Langhantel-Training
DESCRIPTION:Intensiv & abwechslungsreich für den gezielten Muskelaufbau.
URL:https://www.fithit.at/kurs/langhantel-training/2027-03-02/
LOCATION:Radstadt
CATEGORIES:Kraft
ATTACH;FMTTYPE=image/jpeg:https://www.fithit.at/wp-content/uploads/./langhanteltraining-fitnesskurs-radstadt-1.jpg
END:VEVENT
BEGIN:VEVENT
DTSTART;TZID=Europe/Berlin:20270303T080000
DTEND;TZID=Europe/Berlin:20270303T090000
DTSTAMP:20260420T143538
CREATED:20230925T074727Z
LAST-MODIFIED:20251222T095717Z
UID:10010203-1804060800-1804064400@www.fithit.at
SUMMARY:Gesunder Rücken/Pilates
DESCRIPTION:Spezielle Kräftigung der Tiefenmuskulatur des Rückens – ideal gegen Rückenschmerzen und Nackenverspannungen\, zur Steigerung der Körperwahrnehmung und Haltungsverbesserung.
URL:https://www.fithit.at/kurs/gesunder-ruecken-pilates-2-2/2027-03-03/
LOCATION:Radstadt
CATEGORIES:Gesundheit
ATTACH;FMTTYPE=image/jpeg:https://www.fithit.at/wp-content/uploads/./yoga-fitnesskurs-radstadt-1.jpg
END:VEVENT
BEGIN:VEVENT
DTSTART;TZID=Europe/Berlin:20270303T183000
DTEND;TZID=Europe/Berlin:20270303T194500
DTSTAMP:20260420T143538
CREATED:20250710T061702Z
LAST-MODIFIED:20260323T083945Z
UID:10012915-1804098600-1804103100@www.fithit.at
SUMMARY:Yoga
DESCRIPTION:Dehnung und Stärkung der Körpermuskulatur\, Steigerung der Konzentration und Reduktion von Stress – deine Fitnesseinheit für Körper und Geist.
URL:https://www.fithit.at/kurs/yoga-2/2027-03-03/
LOCATION:Radstadt
CATEGORIES:Gesundheit
ATTACH;FMTTYPE=image/jpeg:https://www.fithit.at/wp-content/uploads/./yoga-fitnesskurs-radstadt-1.jpg
END:VEVENT
BEGIN:VEVENT
DTSTART;TZID=Europe/Berlin:20270304T183000
DTEND;TZID=Europe/Berlin:20270304T193000
DTSTAMP:20260420T143538
CREATED:20230517T131444Z
LAST-MODIFIED:20251222T095918Z
UID:10005697-1804185000-1804188600@www.fithit.at
SUMMARY:Intensive Bodywork
DESCRIPTION:Sehr intensives Training im eigenen Rhythmus und Tempo\, daher für jede Altersgruppe und auch Einsteiger/innen geeignet.
URL:https://www.fithit.at/kurs/intensive-bodywork/2027-03-04/
LOCATION:Radstadt
CATEGORIES:Kraft
ATTACH;FMTTYPE=image/jpeg:https://www.fithit.at/wp-content/uploads/./intense-bodywork-fitnesskurs-radstadt-1.jpg
END:VEVENT
BEGIN:VEVENT
DTSTART;TZID=Europe/Berlin:20270305T080000
DTEND;TZID=Europe/Berlin:20270305T090000
DTSTAMP:20260420T143538
CREATED:20230718T081347Z
LAST-MODIFIED:20251222T100024Z
UID:10012600-1804233600-1804237200@www.fithit.at
SUMMARY:Kraft & Koordination Training
DESCRIPTION:Das Ganzkörper-Workout: leichtes Kraft und Koordination Training für einen gesunden und kräftigen Körper.
URL:https://www.fithit.at/kurs/krafttraining-2/2027-03-05/
LOCATION:Radstadt
CATEGORIES:Kraft
ATTACH;FMTTYPE=image/jpeg:https://www.fithit.at/wp-content/uploads/./krafttraining-fitnesskurs-radstadt-1.jpg
END:VEVENT
END:VCALENDAR